{"text_format":"1","workbook":"xlsx","n_sheets":4,"sheets":["ORÇAMENTO","CRONOGRAMA","BDI","BDI (2)"],"not_rendered":{"charts":0,"images":2,"macros":1,"external_links":0,"defined_names":12,"comments":0,"pivot_tables":0},"unopened":[],"bounds":{"document_bytes":16777216,"sheet_cells":100000,"rows_first":2000,"rows_last":500,"rows_between":2000,"halvings":0,"cell_chars":16384,"cell_head_chars":4096},"cells_cut":0,"cells_raw":0,"read":"whole","date_system":"1900"}

{"sheet":"ORÇAMENTO","index":0,"n_rows":323,"n_cols":11,"rows_kept":323,"cut":false,"hidden":false,"merged":[]}
[]
[null,"TODOS OS VALORES ESTÃO NA UNIDADE MONETÁRIA REAL"]
[null,"ITEM ","SERVIÇO ","UN","QUANTI.","VALOR S/ BDI","BDI","VALOR C/ BDI","VALOR TOTAL","CÓDIGO ","FONTE"]
[null,"                                                                                                                                  INICIAL"]
[null,1,"SERVIÇOS INICIAIS",null,null,null,null,"∑ ",{"$f":"SUBTOTAL(9,I6:I8)","v":8408.380000000001}]
[null,"1.1","Execução de Depósito em Canteiro de Obra em Chapa de Madeira Compensada","M2",6,435.33999999999992,{"$f":"BDI!$C$26","v":0.2034},{"$f":"TRUNC(((F6*G6)+F6),2)","v":523.88},{"$f":"IF(ISERR(ROUND((E6*H6),2)),\"\",ROUND((E6*H6),2))","v":3143.28},"CRD001","COMPOSIÇÃO"]
[null,"1.2","Placa de Obra em Chapa de Aço Galvanizado","M2",2.88,383.28,{"$f":"BDI!$C$26","v":0.2034},{"$f":"TRUNC(((F7*G7)+F7),2)","v":461.23},1328.34,"74209/1","SINAPI"]
[null,"1.3","Locação de Obra Convencional, através de Gabarito de Madeira","M",66.319999999999993,49.33,{"$f":"BDI!$C$26","v":0.2034},{"$f":"TRUNC(((F8*G8)+F8),2)","v":59.36},3936.76,99059,"SINAPI"]
[null,"                                                                                                                            ESTRUTURA"]
[null,2,"INFRAESTRUTURA",null,null,null,null,"∑ ",{"$f":"SUBTOTAL(9,I11:I23)","v":38046.719999999994}]
[null,"2.1","Escavações Manuais","M3",29.93,65.59,{"$f":"BDI!$C$26","v":0.2034},{"$f":"TRUNC(((F11*G11)+F11),2)","v":78.930000000000007},{"$f":"IF(ISERR(ROUND((E11*H11),2)),\"\",ROUND((E11*H11),2))","v":2362.37},93358,"SINAPI"]
[null,"2.2","Forma de Madeira para Concreto"]
[null,"2.2.1","Forma de Madeira para Concreto, (material e mão-de-obra para fabricação, montagem e desforma) - Sapatas e Pilares de Fundação","M2",42.4,136.44,{"$f":"BDI!$C$26","v":0.2034},164.19,6961.66,96535,"SINAPI"]
[null,"2.2.2","Forma de Madeira para Concreto, (material e mão-de-obra para fabricação, montagem e desforma) - Vigas Baldrame","M2",117.45,66.459999999999994,{"$f":"BDI!$C$26","v":0.2034},79.97,9392.48,96536,"SINAPI"]
[null,"2.3","Armaduras"]
[null,"2.3.1","Armadura CA-60  - 5.0mm (fornecimento, corte, dobra e colocação)","KG",150.1,12.88,{"$f":"BDI!$C$26","v":0.2034},15.49,2325.0500000000002,96543,"SINAPI"]
[null,"2.3.2","Armadura CA-50  - 6.3mm (fornecimento, corte, dobra e colocação)","KG",2.4,10.88,{"$f":"BDI!$C$26","v":0.2034},13.09,31.42,96544,"SINAPI"]
[null,"2.3.3","Armadura CA-50  - 8.0mm (fornecimento, corte, dobra e colocação)","KG",164.8,10.11,{"$f":"BDI!$C$26","v":0.2034},12.16,2003.97,96545,"SINAPI"]
[null,"2.3.4","Armadura CA-50  - 10.0mm (fornecimento, corte, dobra e colocação)","KG",489.3,8.1999999999999993,{"$f":"BDI!$C$26","v":0.2034},9.86,4824.5,96546,"SINAPI"]
[null,"2.4","Concreto Usinado"]
[null,"2.4.1","Concreto Usinado (fornecimento, lançamento, adensamento e bombeado) FCK=25MPA  - Sapatas e Pilares de Fundação","M3",7.72,404.03,{"$f":"BDI!$C$26","v":0.2034},486.2,3753.46,96558,"SINAPI"]
[null,"2.4.2","Concreto Usinado (fornecimento, lançamento, adensamento e bombeado) FCK=25MPA - Vigas Baldrame","M3",7,397.66,{"$f":"BDI!$C$26","v":0.2034},{"$f":"TRUNC(((F22*G22)+F22),2)","v":478.54},3349.78,96557,"SINAPI"]
[null,"2.5","Impermeabilização com Manta Asfáltica e=3mm, incluindo Emulsão Asfáltica","M2",38.58,65.53,{"$f":"BDI!$C$26","v":0.2034},{"$f":"TRUNC(((F23*G23)+F23),2)","v":78.849999999999994},3042.03,98546,"SINAPI"]
[null,3,"SUPRAESTRUTURA",null,null,null,null,"∑ ",{"$f":"SUBTOTAL(9,I25:I38)","v":53858.83}]
[null,"3.1","Forma de Madeira para Concreto"]
[null,"3.1.1","Forma de Madeira Serrada para Concreto, (material e mão-de-obra para fabricação, montagem e desforma) - Vigas","M2",148.87,111.41,{"$f":"BDI!$C$26","v":0.2034},{"$f":"TRUNC(((F26*G26)+F26),2)","v":134.07},{"$f":"IF(ISERR(ROUND((E26*H26),2)),\"\",ROUND((E26*H26),2))","v":19959},92448,"SINAPI"]
[null,"3.1.2","Forma de Madeira Serrada para Concreto, (material e mão-de-obra para fabricação, montagem e desforma) - Pilares","M2",4.76,106.51,{"$f":"BDI!$C$26","v":0.2034},{"$f":"TRUNC(((F27*G27)+F27),2)","v":128.16999999999999},{"$f":"IF(ISERR(ROUND((E27*H27),2)),\"\",ROUND((E27*H27),2))","v":610.09},92412,"SINAPI"]
[null,"3.2","Armaduras"]
[null,"3.2.1","Armadura CA-60 - 5.0MM (fornecimento, corte, dobra e colocação)","KG",284.2,13.02,{"$f":"BDI!$C$26","v":0.2034},15.66,4450.57,92775,"SINAPI"]
[null,"3.2.2","Armadura CA-50 - 6.3MM (fornecimento, corte, dobra e colocação)","KG",98.7,10.97,{"$f":"BDI!$C$26","v":0.2034},13.2,1302.8399999999999,92776,"SINAPI"]
[null,"3.2.3","Armadura CA-50 - 8.0MM (fornecimento, corte, dobra e colocação)","KG",147.4,10.11,{"$f":"BDI!$C$26","v":0.2034},12.16,1792.38,92777,"SINAPI"]
[null,"3.2.4","Armadura CA-50 - 10.0MM (fornecimento, corte, dobra e colocação)","KG",463.70000000000005,8.14,{"$f":"BDI!$C$26","v":0.2034},9.7899999999999991,4539.62,92778,"SINAPI"]
[null,"3.2.5","Armadura CA-50 - 12.5MM (fornecimento, corte, dobra e colocação)","KG",120.6,7.04,{"$f":"BDI!$C$26","v":0.2034},8.4700000000000006,1021.48,92779,"SINAPI"]
[null,"3.3","Concreto Usinado"]
[null,"3.3.1","Concreto Usinado (fornecimento, lançamento, adensamento e bombeado) FCK=25MPA - Pilares","M3",4.76,382.79,{"$f":"BDI!$C$26","v":0.2034},460.64,2192.65,92720,"SINAPI"]
[null,"3.3.2","Concreto Usinado (fornecimento, lançamento, adensamento e bombeado) FCK=25MPA - Vigas","M3",9.2100000000000009,380.64,{"$f":"BDI!$C$26","v":0.2034},458.06,4218.7299999999996,"CED001","COMPOSIÇÃO"]
[null,"3.4","Lajes"]
[null,"3.4.1","Laje Pré-Moldada Treliçada, SC 250Kg/m2, com Lajota Cerâmica e Capeamento de 5cm, FCK 25 MPa (com escoramento, ferragem negativa e malho pop)","M2",148.16,77.239999999999995,{"$f":"BDI!$C$26","v":0.2034},{"$f":"TRUNC(((F38*G38)+F38),2)","v":92.95},{"$f":"IF(ISERR(ROUND((E38*H38),2)),\"\",ROUND((E38*H38),2))","v":13771.47},"74202/2","SINAPI"]
[null,4,"FECHAMENTOS",null,null,null,null,"∑ ",{"$f":"SUBTOTAL(9,I40:I41)","v":24445.82}]
[null,"4.1","Alvenaria de Tijolos Cerâmicos Furados, e=14cm (17cm acabada)","M2",216.17000000000002,74.539999999999992,{"$f":"BDI!$C$26","v":0.2034},{"$f":"TRUNC(((F40*G40)+F40),2)","v":89.7},19390.45,"CED012","COMPOSIÇÃO"]
[null,"4.2","Vergas e Contravergas, moldadas no local, h=20cm (incluso Fôrmas, Concreto e Armadura) ","M",84.2,49.9,{"$f":"BDI!$C$26","v":0.2034},{"$f":"TRUNC(((F41*G41)+F41),2)","v":60.04},{"$f":"IF(ISERR(ROUND((E41*H41),2)),\"\",ROUND((E41*H41),2))","v":5055.37},93188,"SINAPI"]
[null,5,"COBERTURA",null,null,null,null,"∑ ",{"$f":"SUBTOTAL(9,I44:I51)","v":56063.989999999991}]
[null,"5.1","Estrutura de Madeira"]
[null,"5.1.1","Estrutura em Madeira Aparelhada para Telha Cerâmica, Composta por Ripas, Caibros e Terças","M2",239.42,83.52,{"$f":"BDI!$C$26","v":0.2034},{"$f":"TRUNC(((F44*G44)+F44),2)","v":100.5},{"$f":"IF(ISERR(ROUND((E44*H44),2)),\"\",ROUND((E44*H44),2))","v":24061.71},92540,"SINAPI"]
[null,"5.1.2","Pontaletes, Mão Francesa e Berço para Estrutura de Madeira, de Telha Cerâmica","M2",239.42,35.32,{"$f":"BDI!$C$26","v":0.2034},{"$f":"TRUNC(((F45*G45)+F45),2)","v":42.5},10175.35,92565,"SINAPI"]
[null,"5.1.3","Testeira de Madeira, Largura de 25cm","M",66.44,32.26,{"$f":"BDI!$C$26","v":0.2034},{"$f":"TRUNC(((F46*G46)+F46),2)","v":38.82},{"$f":"IF(ISERR(ROUND((E46*H46),2)),\"\",ROUND((E46*H46),2))","v":2579.1999999999998},"CED011","COMPOSIÇÃO"]
[null,"5.2","Telhamento Cerâmico"]
[null,"5.2.1","Telha Cerâmica tipo Portuguesa, Esmaltada (fornecimento e instalação) (inclui acessórios -  Meia Telha e Cunhas)","M2",239.42,46.68,{"$f":"BDI!$C$26","v":0.2034},56.17,{"$f":"IF(ISERR(ROUND((E48*H48),2)),\"\",ROUND((E48*H48),2))","v":13448.22},94195,"SINAPI"]
[null,"5.2.2","Cumeeiras para Telha Cerâmica (fornecimento e instalação)","M",55.16,33.19,{"$f":"BDI!$C$26","v":0.2034},39.94,2203.09,94219,"SINAPI"]
[null,"5.3","Calhas"]
[null,"5.3.1","Calhas em Chapa em Aço Galvanizado, em Chapa 24 (e=0,65mm), desenvolvimento 33cm","M",67.64,44.19,{"$f":"BDI!$C$26","v":0.2034},53.17,{"$f":"IF(ISERR(ROUND((E51*H51),2)),\"\",ROUND((E51*H51),2))","v":3596.42},94227,"SINAPI"]
[null,6,"PISO",null,null,null,null,"∑ ",{"$f":"SUBTOTAL(9,I53:I59)","v":19329.7}]
[null,"6.1","Regularização e Apiloamento Manual","M2",175.63,8.2899999999999991,{"$f":"BDI!$C$26","v":0.2034},{"$f":"TRUNC(((F53*G53)+F53),2)","v":9.9700000000000006},{"$f":"IF(ISERR(ROUND((E53*H53),2)),\"\",ROUND((E53*H53),2))","v":1751.03},"CED003","COMPOSIÇÃO"]
[null,"6.2","Lastro de Brita Graduada para Piso de Concreto, e=20cm","M3",35.130000000000003,82.2,{"$f":"BDI!$C$26","v":0.2034},98.91,3474.71,88549,"SINAPI"]
[null,"6.3","Lona 200 Micras (fornecimento e instalação)","M2",175.63,5.2,{"$f":"BDI!$C$26","v":0.2034},6.25,1097.69,68053,"SINAPI"]
[null,"6.4","Tela Soldada Q-92 - Aço CA-60 4.2mm - Malha 15x15cm (fornecimento, corte e instalação)","M2",175.63,10.75,{"$f":"BDI!$C$26","v":0.2034},12.93,{"$f":"IF(ISERR(ROUND((E56*H56),2)),\"\",ROUND((E56*H56),2))","v":2270.9},85662,"SINAPI"]
[null,"6.5","Forma de Madeira Serrada para Concreto, (material e mão-de-obra para fabricação, montagem e desforma)","M2",2.54,66.459999999999994,{"$f":"BDI!$C$26","v":0.2034},{"$f":"TRUNC(((F57*G57)+F57),2)","v":79.97},{"$f":"IF(ISERR(ROUND((E57*H57),2)),\"\",ROUND((E57*H57),2))","v":203.12},96536,"SINAPI"]
[null,"6.6","Piso em Concreto 25 Mpa , e=7cm","M3",12.29,335.34,{"$f":"BDI!$C$26","v":0.2034},{"$f":"TRUNC(((F58*G58)+F58),2)","v":403.54},{"$f":"IF(ISERR(ROUND((E58*H58),2)),\"\",ROUND((E58*H58),2))","v":4959.51},"CED100","COMPOSIÇÃO"]
[null,"6.7","Contrapiso/Regularização em Argamassa, e=2cm","M2",175.63,26.37,{"$f":"BDI!$C$26","v":0.2034},{"$f":"TRUNC(((F59*G59)+F59),2)","v":31.73},{"$f":"IF(ISERR(ROUND((E59*H59),2)),\"\",ROUND((E59*H59),2))","v":5572.74},87620,"SINAPI"]
[null,"                                                                                                                           INSTALAÇÕES"]
[null,7,"INSTALAÇÕES ELÉTRICAS",null,null,null,null,"∑ ",{"$f":"SUBTOTAL(9,I62:I98)","v":28934.460000000003}]
[null,"7.1"," Ligação"]
[null,"7.1.1","Fita de amaração (fornecimento e instalação), Conforme projeto.","M",3,3.46,{"$f":"BDI!$C$26","v":0.2034},{"$f":"TRUNC(((F63*G63)+F63),2)","v":4.16},{"$f":"IF(ISERR(ROUND((E63*H63),2)),\"\",ROUND((E63*H63),2))","v":12.48},91175,"SINAPI"]
[null,"7.1.2","Eletroduto PVC Rígido - 1 1/2\"","M",8,11.56,{"$f":"BDI!$C$26","v":0.2034},13.91,111.28,93008,"SINAPI"]
[null,"7.1.3","Curva 180° para Eletroduto Roscável 1 1/2\" (2x90°)","UN",1,21.31,{"$f":"BDI!$C$26","v":0.2034},25.64,25.64,93018,"SINAPI"]
[null,"7.1.4","Cabo de Cobre Isolado 1KV - 10mm2 - 1KV (4x13m)","M",52,6.09,{"$f":"BDI!$C$26","v":0.2034},7.32,380.64,92980,"SINAPI"]
[null,"7.1.5","Mureta (0,46cm x 1,90m)  com pingadeira"]
[null,"7.1.5.1","Alvenaria de Tijolos Cerâmicos Furados, e=14cm  (17cm acabada)","M2",0.874,74.539999999999992,{"$f":"BDI!$C$26","v":0.2034},{"$f":"TRUNC(((F68*G68)+F68),2)","v":89.7},{"$f":"IF(ISERR(ROUND((E68*H68),2)),\"\",ROUND((E68*H68),2))","v":78.400000000000006},"CED012","COMPOSIÇÃO"]
[null,"7.1.5.2","Chapisco","M2",3.03,3.32,{"$f":"BDI!$C$26","v":0.2034},3.99,12.09,87879,"SINAPI"]
[null,"7.1.5.3","Emboço/Reboco (Massa Única)","M2",3.03,26.83,{"$f":"BDI!$C$26","v":0.2034},32.28,97.81,89173,"SINAPI"]
[null,"7.1.6","Caixa de Proteção para Medidor Trifásico (fornecimento e instalação)","UN",1,232.91,{"$f":"BDI!$C$26","v":0.2034},280.27999999999997,280.27999999999997,"CEL100","COMPOSIÇÃO"]
[null,"7.1.7","Disjuntor Tripolar 50A - (Fornecimento e Instalação)","UN",1,23.75,{"$f":"BDI!$C$26","v":0.2034},28.58,28.58,93659,"SINAPI"]
[null,"7.1.8","Disjuntor de Proteção Contra Raios (DPS), 275V - 45KA (fornecimento e instalação)","UN",1,108.35,{"$f":"BDI!$C$26","v":0.2034},130.38,130.38,"CEL017","COMPOSIÇÃO"]
[null,"7.1.9","Caixa de Passagem Padrão CELESC, 65x41x70cm (fornecimento e instalação)","UN ",1,93.990000000000009,{"$f":"BDI!$C$26","v":0.2034},113.1,113.1,"CEL010","COMPOSIÇÃO"]
[null,"7.1.10","Haste de Aterramento em Aço de 2,4m e Ø5/8\"","UN",1,50.4,{"$f":"BDI!$C$26","v":0.2034},60.65,60.65,96985,"SINAPI"]
[null,"7.1.11","Tampa de Ferro Fundido, 65x41cm (fornecimento e instalação)  ","UN",1,224.91,{"$f":"BDI!$C$26","v":0.2034},270.64999999999998,270.64999999999998,84798,"SINAPI"]
[null,"7.2","Ramal de Carga (do Medidor de Energia até Quadro de Disjuntores)"]
[null,"7.2.1","Cabo de Cobre Isolado 10mm2 - 1KV","M",160,6.09,{"$f":"BDI!$C$26","v":0.2034},{"$f":"TRUNC(((F78*G78)+F78),2)","v":7.32},{"$f":"IF(ISERR(ROUND((E78*H78),2)),\"\",ROUND((E78*H78),2))","v":1171.2},92980,"SINAPI"]
[null,"7.2.2","Eletroduto PEAD 40mm - 1 1/2\" (fornecimento, escavação, assentamento e reaterro)","M",40,25.58,{"$f":"BDI!$C$26","v":0.2034},{"$f":"TRUNC(((F79*G79)+F79),2)","v":30.78},{"$f":"IF(ISERR(ROUND((E79*H79),2)),\"\",ROUND((E79*H79),2))","v":1231.2},"CEL006","COMPOSIÇÃO"]
[null,"7.2.3","Caixa de Passagem 30x30x40, Fundo de Brita e Tampa (fornecimento e instalação)","UN",3,162.79,{"$f":"BDI!$C$26","v":0.2034},{"$f":"TRUNC(((F80*G80)+F80),2)","v":195.9},{"$f":"IF(ISERR(ROUND((E80*H80),2)),\"\",ROUND((E80*H80),2))","v":587.70000000000005},83446,"SINAPI"]
[null,"7.2.4","Haste de Aterramento em Aço de 2,4m e Ø5/8\"","UN",2,50.4,{"$f":"BDI!$C$26","v":0.2034},60.65,121.3,96985,"SINAPI"]
[null,"7.3","Quadro de Distribuição"]
[null,"7.3.1","Quadro de Distribuição de Energia para 24 Disjuntores Monopolares, com Barramento Trifasico e Neutro (Fornecimento e Instalação)","UN",1,565.29999999999995,{"$f":"BDI!$C$26","v":0.2034},{"$f":"TRUNC(((F83*G83)+F83),2)","v":680.28},{"$f":"IF(ISERR(ROUND((E83*H83),2)),\"\",ROUND((E83*H83),2))","v":680.28},"74131/5","SINAPI"]
[null,"7.3.2","Disjuntor Monopolar 10A - Din (Fornecimento e Instalação)","UN",2,11.01,{"$f":"BDI!$C$26","v":0.2034},{"$f":"TRUNC(((F84*G84)+F84),2)","v":13.24},{"$f":"IF(ISERR(ROUND((E84*H84),2)),\"\",ROUND((E84*H84),2))","v":26.48},93653,"SINAPI"]
[null,"7.3.3","Disjuntor Monopolar 16A - Din (Fornecimento e Instalação)","UN",5,11.68,{"$f":"BDI!$C$26","v":0.2034},14.05,70.25,93654,"SINAPI"]
[null,"7.3.4","Disjuntor Monopolar 25A - Din (Fornecimento e Instalação)","UN",3,12.78,{"$f":"BDI!$C$26","v":0.2034},15.37,46.11,93656,"SINAPI"]
[null,"7.3.5","Disjuntor Tripolar 40A - Din (Fornecimento e Instalação)","UN",1,84.75,{"$f":"BDI!$C$26","v":0.2034},101.98,101.98,93672,"SINAPI"]
[null,"7.3.6","Disjuntor Diferencial Residual (DR) 25A (fornecimento e instalação)","UN",3,142.10000000000002,{"$f":"BDI!$C$26","v":0.2034},{"$f":"TRUNC(((F88*G88)+F88),2)","v":171},{"$f":"IF(ISERR(ROUND((E88*H88),2)),\"\",ROUND((E88*H88),2))","v":513},"CEL013","COMPOSIÇÃO"]
[null,"7.3.7","Disjuntor de Proteção Contra Raios (DPS), 45KA (fornecimento e instalação)","UN",1,108.35,{"$f":"BDI!$C$26","v":0.2034},{"$f":"TRUNC(((F89*G89)+F89),2)","v":130.38},{"$f":"IF(ISERR(ROUND((E89*H89),2)),\"\",ROUND((E89*H89),2))","v":130.38},"CEL017","COMPOSIÇÃO"]
[null,"7.4","Iluminação   "]
[null,"7.4.1","Ponto de Iluminação (Caixas, Eletroduto, Cabos, Interruptor) (fornecimento e instalação)","UN",40,134.62,{"$f":"BDI!$C$26","v":0.2034},{"$f":"TRUNC(((F91*G91)+F91),2)","v":162},{"$f":"IF(ISERR(ROUND((E91*H91),2)),\"\",ROUND((E91*H91),2))","v":6480},93128,"SINAPI"]
[null,"7.4.2","Sensor de Presença com Fotocélula (fornecimento e instalação)","UN",5,48.72,{"$f":"BDI!$C$26","v":0.2034},58.62,293.10000000000002,97597,"SINAPI"]
[null,"7.4.3","Luminária Calha, com 2 Lâmpadas de LED Tubular de 18W (fornecimento e instalação)","UN",26,151.99,{"$f":"BDI!$C$26","v":0.2034},182.9,4755.3999999999996,"CEL101","COMPOSIÇÃO"]
[null,"7.4.4","Luminária Plafon, com Lâmpada LED (fornecimento e instalação)","UN",5,105.77,{"$f":"BDI!$C$26","v":0.2034},127.28,636.4,97592,"SINAPI"]
[null,"7.4.5","Luminária Arandela Tartaruga, com 1 Lâmpada LED (fornecimento e instalação)","UN",9,82.04,{"$f":"BDI!$C$26","v":0.2034},98.72,888.48,97607,"SINAPI"]
[null,"7.5","Tomadas"]
[null,"7.5.1","Ponto de Tomada 2P+T - 10A (Caixa, Eletroduto, Cabos e Tomada com Placa) (fornecimento e instalação)","UN",46,159.38,{"$f":"BDI!$C$26","v":0.2034},{"$f":"TRUNC(((F97*G97)+F97),2)","v":191.79},{"$f":"IF(ISERR(ROUND((E97*H97),2)),\"\",ROUND((E97*H97),2))","v":8822.34},93141,"SINAPI"]
[null,"7.5.2","Ponto de Tomada 2P+T - 20A (Caixa, Eletroduto, Cabos e Tomada com Placa) (fornecimento e instalação)","UN",4,161.4,{"$f":"BDI!$C$26","v":0.2034},194.22,776.88,93143,"SINAPI"]
[null,8,"INSTALAÇÕES DA REDE LÓGICA E TELEFONIA",null,null,null,null,"∑ ",{"$f":"SUBTOTAL(9,I100:I105)","v":2308.59}]
[null,"8.1","Ramal de Entrada"]
[null,"8.1.1","Eletroduto PEAD 40mm - 1 1/2\" (fornecimento, escavação, assentamento e reaterro)","M",40,25.58,{"$f":"BDI!$C$26","v":0.2034},{"$f":"TRUNC(((F101*G101)+F101),2)","v":30.78},{"$f":"IF(ISERR(ROUND((E101*H101),2)),\"\",ROUND((E101*H101),2))","v":1231.2},"CEL006","COMPOSIÇÃO"]
[null,"8.1.2","Caixa de Passagem 30x30x40, Fundo de Brita e Tampa (fornecimento e instalação)","UN",3,162.79,{"$f":"BDI!$C$26","v":0.2034},195.9,587.70000000000005,83446,"SINAPI"]
[null,"8.2","Quadro e Pontos"]
[null,"8.2.1","Quadro de Distribuição para Comunicação 20x20x12cm (fornecimento e instalação)","UN",1,134.6,{"$f":"BDI!$C$26","v":0.2034},{"$f":"TRUNC(((F104*G104)+F104),2)","v":161.97},{"$f":"IF(ISERR(ROUND((E104*H104),2)),\"\",ROUND((E104*H104),2))","v":161.97},83371,"SINAPI"]
[null,"8.2.2","Ponto de Comunicação SEM FIAÇÃO (Caixa, Eletroduto) (fornecimento e instalação)","UN",3,90.78,{"$f":"BDI!$C$26","v":0.2034},{"$f":"TRUNC(((F105*G105)+F105),2)","v":109.24},327.72,"CEL020","COMPOSIÇÃO"]
[null,9,"REDE HIDRÁULICA",null,null,null,null,"∑ ",{"$f":"SUBTOTAL(9,I107:I163)","v":4027.6400000000003}]
[null,"9.1","Alimentação"]
[null,"9.1.1","Caixa d'Água"]
[null,"9.1.1.1","1.500 Litros - Polietileno","UN",1,602.76,{"$f":"BDI!$C$26","v":0.2034},{"$f":"TRUNC(((F109*G109)+F109),2)","v":725.36},{"$f":"IF(ISERR(ROUND((E109*H109),2)),\"\",ROUND((E109*H109),2))","v":725.36},"CHD202","COMPOSIÇÃO"]
[null,"9.1.2","Torneira tipo Bóia"]
[null,"9.1.2.1","3/4\"","UN",1,21.15,{"$f":"BDI!$C$26","v":0.2034},{"$f":"TRUNC(((F111*G111)+F111),2)","v":25.45},{"$f":"IF(ISERR(ROUND((E111*H111),2)),\"\",ROUND((E111*H111),2))","v":25.45},94796,"SINAPI"]
[null,"9.1.3","Válvula de Esfera - PVC Soldável"]
[null,"9.1.3.1","3/4\"","UN",1,21.31,{"$f":"BDI!$C$26","v":0.2034},{"$f":"TRUNC(((F113*G113)+F113),2)","v":25.64},{"$f":"IF(ISERR(ROUND((E113*H113),2)),\"\",ROUND((E113*H113),2))","v":25.64},94489,"SINAPI"]
[null,"9.1.4","Adaptador Soldável Longo com Flange para Caixa d'Água"]
[null,"9.1.4.1","25mm - 3/4\"","UN",1,14.07,{"$f":"BDI!$C$26","v":0.2034},16.93,{"$f":"IF(ISERR(ROUND((E115*H115),2)),\"\",ROUND((E115*H115),2))","v":16.93},94703,"SINAPI"]
[null,"9.1.5","Adaptador Soldável Curto com Bolsa e Rosca para Registro"]
[null,"9.1.5.1","25mm - 3/4\"","UN",2,3.77,{"$f":"BDI!$C$26","v":0.2034},{"$f":"TRUNC(((F117*G117)+F117),2)","v":4.53},{"$f":"IF(ISERR(ROUND((E117*H117),2)),\"\",ROUND((E117*H117),2))","v":9.06},89429,"SINAPI"]
[null,"9.1.6","Joelho 45° Soldável"]
[null,"9.1.6.1","25mm","UN",1,5.4,{"$f":"BDI!$C$26","v":0.2034},6.49,{"$f":"IF(ISERR(ROUND((E119*H119),2)),\"\",ROUND((E119*H119),2))","v":6.49},89409,"SINAPI"]
[null,"9.1.7","Joelho 90° Soldável"]
[null,"9.1.7.1","25mm","UN",5,4.9000000000000004,{"$f":"BDI!$C$26","v":0.2034},5.89,{"$f":"IF(ISERR(ROUND((E121*H121),2)),\"\",ROUND((E121*H121),2))","v":29.45},89408,"SINAPI"]
[null,"9.1.8","Tubos PVC Soldável"]
[null,"9.1.8.1","25mm","M",16.63,7.21,{"$f":"BDI!$C$26","v":0.2034},8.67,{"$f":"IF(ISERR(ROUND((E123*H123),2)),\"\",ROUND((E123*H123),2))","v":144.18},89402,"SINAPI"]
[null,"9.1.9","Hidrômetro"]
[null,"9.1.9.1","Cavalete para Medição de Água - Entrada Principal em PVC 25mm","UN",1,128.87,{"$f":"BDI!$C$26","v":0.2034},155.08000000000001,{"$f":"IF(ISERR(ROUND((E125*H125),2)),\"\",ROUND((E125*H125),2))","v":155.08000000000001},95635,"SINAPI"]
[null,"9.1.9.2","Hidrômetro 1,5m³/h - 1/2\"","UN",1,168.62,{"$f":"BDI!$C$26","v":0.2034},202.91,202.91,95673,"SINAPI"]
[null,"9.1.9.3","Caixa de Concreto PréMoldado para Abrigo de Hidrômetro ","UN",1,71.73,{"$f":"BDI!$C$26","v":0.2034},86.31,86.31,95676,"SINAPI"]
[null,"9.2","Metais - Registros"]
[null,"9.2.1","Registro de Gaveta com Canopla Cromada"]
[null,"9.2.1.1","3/4\"","UN",5,62.54,{"$f":"BDI!$C$26","v":0.2034},{"$f":"TRUNC(((F130*G130)+F130),2)","v":75.260000000000005},{"$f":"IF(ISERR(ROUND((E130*H130),2)),\"\",ROUND((E130*H130),2))","v":376.3},89987,"SINAPI"]
[null,"9.2.1.2","1.1/2\"","UN",2,123.8,{"$f":"BDI!$C$26","v":0.2034},148.97999999999999,297.95999999999998,94794,"SINAPI"]
[null,"9.2.2","Válvula de Descarga Baixa Pressão, com Acabamento em Metal Cromado"]
[null,"9.2.2.1","1.1/2\"","UN",2,197.31,{"$f":"BDI!$C$26","v":0.2034},{"$f":"TRUNC(((F133*G133)+F133),2)","v":237.44},{"$f":"IF(ISERR(ROUND((E133*H133),2)),\"\",ROUND((E133*H133),2))","v":474.88},99635,"SINAPI"]
[null,"9.3","Água Fria"]
[null,"9.3.1","Válvula de Esfera - PVC Soldável"]
[null,"9.3.1.1","1.1/2\"","UN",3,50.67,{"$f":"BDI!$C$26","v":0.2034},60.97,{"$f":"IF(ISERR(ROUND((E136*H136),2)),\"\",ROUND((E136*H136),2))","v":182.91},94492,"SINAPI"]
[null,"9.3.2","Adaptador Soldável com Flange para Caixa d'Água"]
[null,"9.3.2.1","50mm - 1.1/2\"","UN",3,28.39,{"$f":"BDI!$C$26","v":0.2034},{"$f":"TRUNC(((F138*G138)+F138),2)","v":34.159999999999997},{"$f":"IF(ISERR(ROUND((E138*H138),2)),\"\",ROUND((E138*H138),2))","v":102.48},94706,"SINAPI"]
[null,"9.3.3","Adaptador Soldável Curto com Bolsa e Rosca para Registro"]
[null,"9.3.3.1","50mm - 1.1/2\"","UN",6,7.77,{"$f":"BDI!$C$26","v":0.2034},9.35,{"$f":"IF(ISERR(ROUND((E140*H140),2)),\"\",ROUND((E140*H140),2))","v":56.1},89596,"SINAPI"]
[null,"9.3.4","Bucha de Redução Soldável Curta"]
[null,"9.3.4.1","32mm - 25mm","UN",2,5.0199999999999996,{"$f":"BDI!$C$26","v":0.2034},6.04,{"$f":"IF(ISERR(ROUND((E142*H142),2)),\"\",ROUND((E142*H142),2))","v":12.08},"CHD007","COMPOSIÇÃO"]
[null,"9.3.5","Bucha de Redução Soldável Longa"]
[null,"9.3.5.1","50mm - 25mm","UN",2,7.16,{"$f":"BDI!$C$26","v":0.2034},8.61,{"$f":"IF(ISERR(ROUND((E144*H144),2)),\"\",ROUND((E144*H144),2))","v":17.22},"CHD011","COMPOSIÇÃO"]
[null,"9.3.6","Joelho 45° Soldável"]
[null,"9.3.6.1","50mm","UN",3,11.17,{"$f":"BDI!$C$26","v":0.2034},13.44,{"$f":"IF(ISERR(ROUND((E146*H146),2)),\"\",ROUND((E146*H146),2))","v":40.32},89502,"SINAPI"]
[null,"9.3.7","Joelho 90° Soldável"]
[null,"9.3.7.1","25mm","UN",11,4.9000000000000004,{"$f":"BDI!$C$26","v":0.2034},5.89,{"$f":"IF(ISERR(ROUND((E148*H148),2)),\"\",ROUND((E148*H148),2))","v":64.790000000000006},89408,"SINAPI"]
[null,"9.3.7.2","50mm","UN",10,10.01,{"$f":"BDI!$C$26","v":0.2034},12.04,120.4,89501,"SINAPI"]
[null,"9.3.8","Tê 90° Soldável"]
[null,"9.3.8.1","25mm","UN",3,5.19,{"$f":"BDI!$C$26","v":0.2034},6.24,{"$f":"IF(ISERR(ROUND((E151*H151),2)),\"\",ROUND((E151*H151),2))","v":18.72},89617,"SINAPI"]
[null,"9.3.8.2","50mm","UN",2,15.34,{"$f":"BDI!$C$26","v":0.2034},18.46,36.92,89625,"SINAPI"]
[null,"9.3.9","Tê de Redução 90° Soldável"]
[null,"9.3.9.1","50mm - 32mm","UN",2,18.29,{"$f":"BDI!$C$26","v":0.2034},22.01,{"$f":"IF(ISERR(ROUND((E154*H154),2)),\"\",ROUND((E154*H154),2))","v":44.02},"CHD014","COMPOSIÇÃO"]
[null,"9.3.9.2","50mm - 25mm","UN",1,14.58,{"$f":"BDI!$C$26","v":0.2034},17.54,17.54,89627,"SINAPI"]
[null,"9.3.9.3","32mm - 25mm","UN",2,9.5,{"$f":"BDI!$C$26","v":0.2034},11.43,22.86,89622,"SINAPI"]
[null,"9.3.10","Tubos PVC Soldável"]
[null,"9.3.10.1","25mm","M",27.12,7.21,{"$f":"BDI!$C$26","v":0.2034},{"$f":"TRUNC(((F158*G158)+F158),2)","v":8.67},{"$f":"IF(ISERR(ROUND((E158*H158),2)),\"\",ROUND((E158*H158),2))","v":235.13},89402,"SINAPI"]
[null,"9.3.10.2","32mm","M",3.85,11.29,{"$f":"BDI!$C$26","v":0.2034},{"$f":"TRUNC(((F159*G159)+F159),2)","v":13.58},52.28,89403,"SINAPI"]
[null,"9.3.10.3","50mm","M",25.62,10.82,{"$f":"BDI!$C$26","v":0.2034},{"$f":"TRUNC(((F160*G160)+F160),2)","v":13.02},333.57,89449,"SINAPI"]
[null,"9.3.11","Joelho 90° Soldável com Bucha de Latão"]
[null,"9.3.11.1","25mm - 1/2\"","UN",4,10.88,{"$f":"BDI!$C$26","v":0.2034},13.09,{"$f":"IF(ISERR(ROUND((E162*H162),2)),\"\",ROUND((E162*H162),2))","v":52.36},90373,"SINAPI"]
[null,"9.3.11.2","25mm - 3/4\"","UN",3,11.62,{"$f":"BDI!$C$26","v":0.2034},13.98,41.94,89366,"SINAPI"]
[null,10,"REDE SANITÁRIA",null,null,null,null,"∑ ",{"$f":"SUBTOTAL(9,I165:I220)","v":8359.1899999999969}]
[null,"10.1","Esgoto"]
[null,"10.1.1","Caixa de gordura"]
[null,"10.1.1.1","Simples (Capacidade: 36L), Pré-Moldada Ø40cm","UN",2,64.88,{"$f":"BDI!$C$26","v":0.2034},{"$f":"TRUNC(((F167*G167)+F167),2)","v":78.069999999999993},{"$f":"IF(ISERR(ROUND((E167*H167),2)),\"\",ROUND((E167*H167),2))","v":156.13999999999999},98102,"SINAPI"]
[null,"10.1.2","Caixa de inspeção"]
[null,"10.1.2.1","Alvenaria com Tampa, 60x60cm","UN",3,365.73,{"$f":"BDI!$C$26","v":0.2034},{"$f":"TRUNC(((F169*G169)+F169),2)","v":440.11},{"$f":"IF(ISERR(ROUND((E169*H169),2)),\"\",ROUND((E169*H169),2))","v":1320.33},97906,"SINAPI"]
[null,"10.1.3","Caixa sifonada"]
[null,"10.1.3.1","150x150x50","UN",3,23.49,{"$f":"BDI!$C$26","v":0.2034},{"$f":"TRUNC(((F171*G171)+F171),2)","v":28.26},{"$f":"IF(ISERR(ROUND((E171*H171),2)),\"\",ROUND((E171*H171),2))","v":84.78},89707,"SINAPI"]
[null,"10.1.4","Curva  PVC 90° curta"]
[null,"10.1.4.1","40mm","UN",3,7.69,{"$f":"BDI!$C$26","v":0.2034},{"$f":"TRUNC(((F173*G173)+F173),2)","v":9.25},{"$f":"IF(ISERR(ROUND((E173*H173),2)),\"\",ROUND((E173*H173),2))","v":27.75},89728,"SINAPI"]
[null,"10.1.4.2","100mm","UN",2,25.8,{"$f":"BDI!$C$26","v":0.2034},31.04,62.08,89748,"SINAPI"]
[null,"10.1.5","Joelho PVC 45°"]
[null,"10.1.5.1","40mm","UN",3,5.85,{"$f":"BDI!$C$26","v":0.2034},{"$f":"TRUNC(((F176*G176)+F176),2)","v":7.03},{"$f":"IF(ISERR(ROUND((E176*H176),2)),\"\",ROUND((E176*H176),2))","v":21.09},89726,"SINAPI"]
[null,"10.1.5.2","50mm","UN",5,8.74,{"$f":"BDI!$C$26","v":0.2034},10.51,52.55,89732,"SINAPI"]
[null,"10.1.6","Joelho PVC 90°"]
[null,"10.1.6.1","40mm","UN",3,7.33,{"$f":"BDI!$C$26","v":0.2034},{"$f":"TRUNC(((F179*G179)+F179),2)","v":8.82},{"$f":"IF(ISERR(ROUND((E179*H179),2)),\"\",ROUND((E179*H179),2))","v":26.46},89724,"SINAPI"]
[null,"10.1.6.2","50mm","UN",7,8.39,{"$f":"BDI!$C$26","v":0.2034},10.09,70.63,89731,"SINAPI"]
[null,"10.1.7","Junção Simples PVC"]
[null,"10.1.7.1","100mm - 50mm","UN",2,22.1,{"$f":"BDI!$C$26","v":0.2034},{"$f":"TRUNC(((F182*G182)+F182),2)","v":26.59},{"$f":"IF(ISERR(ROUND((E182*H182),2)),\"\",ROUND((E182*H182),2))","v":53.18},"CHD019","COMPOSIÇÃO"]
[null,"10.1.8","Luva Simples PVC"]
[null,"10.1.8.1","100mm","UN",2,13.68,{"$f":"BDI!$C$26","v":0.2034},{"$f":"TRUNC(((F184*G184)+F184),2)","v":16.46},{"$f":"IF(ISERR(ROUND((E184*H184),2)),\"\",ROUND((E184*H184),2))","v":32.92},89778,"SINAPI"]
[null,"10.1.9","Tê Sanitário PVC"]
[null,"10.1.9.1","50mm - 50mm","UN",3,14.29,{"$f":"BDI!$C$26","v":0.2034},{"$f":"TRUNC(((F186*G186)+F186),2)","v":17.190000000000001},{"$f":"IF(ISERR(ROUND((E186*H186),2)),\"\",ROUND((E186*H186),2))","v":51.57},89784,"SINAPI"]
[null,"10.1.10","Tubo Rígido com Ponta Lisa"]
[null,"10.1.10.1","40mm","M",3.35,15.47,{"$f":"BDI!$C$26","v":0.2034},{"$f":"TRUNC(((F188*G188)+F188),2)","v":18.61},{"$f":"IF(ISERR(ROUND((E188*H188),2)),\"\",ROUND((E188*H188),2))","v":62.34},89711,"SINAPI"]
[null,"10.1.10.2","50mm - 2\"","M",10.35,22.27,{"$f":"BDI!$C$26","v":0.2034},26.79,277.27999999999997,89712,"SINAPI"]
[null,"10.1.10.3","75mm - 3\"","M",6.57,33.770000000000003,{"$f":"BDI!$C$26","v":0.2034},40.630000000000003,266.94,89713,"SINAPI"]
[null,"10.1.10.4","100mm - 4\"","M",29.02,43.72,{"$f":"BDI!$C$26","v":0.2034},52.61,1526.74,89714,"SINAPI"]
[null,"10.2","Ventilação"]
[null,"10.2.1","Curva  PVC 90° Curta"]
[null,"10.2.1.1","50mm","UN",3,12.5,{"$f":"BDI!$C$26","v":0.2034},{"$f":"TRUNC(((F194*G194)+F194),2)","v":15.04},{"$f":"IF(ISERR(ROUND((E194*H194),2)),\"\",ROUND((E194*H194),2))","v":45.12},89733,"SINAPI"]
[null,"10.2.2","Tubo Rígido com Ponta Lisa"]
[null,"10.2.2.1","50mm - 2\"","M",10.43,22.27,{"$f":"BDI!$C$26","v":0.2034},{"$f":"TRUNC(((F196*G196)+F196),2)","v":26.79},{"$f":"IF(ISERR(ROUND((E196*H196),2)),\"\",ROUND((E196*H196),2))","v":279.42},89712,"SINAPI"]
[null,"10.3","Sistema de Tratamento"]
[null,"10.3.1","Fossa Séptica Pré-Moldada, Ø1,20m, h=2,00m"]
[null,"10.3.1.1","Tubo de Concreto Ø1,20m, com Junta Rígida de Argamassa (incluso escavação, carga e transporte)","M",2,435.15,{"$f":"BDI!$C$26","v":0.2034},{"$f":"TRUNC(((F199*G199)+F199),2)","v":523.65},{"$f":"IF(ISERR(ROUND((E199*H199),2)),\"\",ROUND((E199*H199),2))","v":1047.3},92816,"SINAPI"]
[null,"10.3.1.2","Tampa Pré-Moldada Ø1,25m","M3",6.1359231515425654E-2,2200.46,{"$f":"BDI!$C$26","v":0.2034},{"$f":"TRUNC(((F200*G200)+F200),2)","v":2648.03},{"$f":"IF(ISERR(ROUND((E200*H200),2)),\"\",ROUND((E200*H200),2))","v":162.47999999999999},97739,"SINAPI"]
[null,"10.3.1.3","Concreto Usinado (fornecimento, lançamento, adensamento e bombeado) FCK=25MPA","M3",0.1413716694115407,379.03,{"$f":"BDI!$C$26","v":0.2034},456.12,64.48,92722,"SINAPI"]
[null,"10.3.1.4","Aço CA-50 - 8.0MM (fornecimento, corte, colocação)","KG",13.153499999999999,8.84,{"$f":"BDI!$C$26","v":0.2034},10.63,139.82,92786,"SINAPI"]
[null,"10.3.1.5","Impermeabilização com Argamassa Polimérica Bicomponente Semiflexível, 03 Demãos Cruzadas","M2",7.9168134870462783,27.34,{"$f":"BDI!$C$26","v":0.2034},{"$f":"TRUNC(((F203*G203)+F203),2)","v":32.9},{"$f":"IF(ISERR(ROUND((E203*H203),2)),\"\",ROUND((E203*H203),2))","v":260.45999999999998},98555,"SINAPI"]
[null,"10.3.1.6","Tubo PVC, 100mm","M",1.3,43.72,{"$f":"BDI!$C$26","v":0.2034},{"$f":"TRUNC(((F204*G204)+F204),2)","v":52.61},{"$f":"IF(ISERR(ROUND((E204*H204),2)),\"\",ROUND((E204*H204),2))","v":68.39},89714,"SINAPI"]
[null,"10.3.1.7","Tê PVC, 100mm x 100mm","UN",2,28.81,{"$f":"BDI!$C$26","v":0.2034},{"$f":"TRUNC(((F205*G205)+F205),2)","v":34.659999999999997},{"$f":"IF(ISERR(ROUND((E205*H205),2)),\"\",ROUND((E205*H205),2))","v":69.319999999999993},89796,"SINAPI"]
[null,"10.3.1.8","Tubo PVC, 150mm","M",2,39.619999999999997,{"$f":"BDI!$C$26","v":0.2034},{"$f":"TRUNC(((F206*G206)+F206),2)","v":47.67},{"$f":"IF(ISERR(ROUND((E206*H206),2)),\"\",ROUND((E206*H206),2))","v":95.34},89849,"SINAPI"]
[null,"10.3.1.9","Cap, 150mm","UN",1,11.2,{"$f":"BDI!$C$26","v":0.2034},{"$f":"TRUNC(((F207*G207)+F207),2)","v":13.47},{"$f":"IF(ISERR(ROUND((E207*H207),2)),\"\",ROUND((E207*H207),2))","v":13.47},72295,"SINAPI"]
[null,"10.3.2","Filtro Anaeróbio Pré-Moldad0, Ø1,20m, h=1,80m"]
[null,"10.3.2.1","Tubo de Concreto Ø1,20m, com Junta Rígida de Argamassa (incluso escavação, carga e transporte)","M",1.8,435.15,{"$f":"BDI!$C$26","v":0.2034},{"$f":"TRUNC(((F209*G209)+F209),2)","v":523.65},{"$f":"IF(ISERR(ROUND((E209*H209),2)),\"\",ROUND((E209*H209),2))","v":942.57},92816,"SINAPI"]
[null,"10.3.2.2","Tampa Pré-Moldada Ø1,25m","M3",6.1359231515425654E-2,2200.46,{"$f":"BDI!$C$26","v":0.2034},{"$f":"TRUNC(((F210*G210)+F210),2)","v":2648.03},{"$f":"IF(ISERR(ROUND((E210*H210),2)),\"\",ROUND((E210*H210),2))","v":162.47999999999999},97739,"SINAPI"]
[null,"10.3.2.3","Fundo Falso Pré-Moldada Ø1,20m","M3",5.6548667764616284E-2,2200.46,{"$f":"BDI!$C$26","v":0.2034},{"$f":"TRUNC(((F211*G211)+F211),2)","v":2648.03},{"$f":"IF(ISERR(ROUND((E211*H211),2)),\"\",ROUND((E211*H211),2))","v":149.74},97739,"SINAPI"]
[null,"10.3.2.4","Concreto Usinado (fornecimento, lançamento, adensamento e bombeado) FCK=25MPA","M3",0.1413716694115407,379.03,{"$f":"BDI!$C$26","v":0.2034},{"$f":"TRUNC(((F212*G212)+F212),2)","v":456.12},{"$f":"IF(ISERR(ROUND((E212*H212),2)),\"\",ROUND((E212*H212),2))","v":64.48},92722,"SINAPI"]
[null,"10.3.2.5","Aço CA-50 - 8.0MM (fornecimento, corte, colocação)","KG",13.153499999999999,8.84,{"$f":"BDI!$C$26","v":0.2034},10.63,139.82,92786,"SINAPI"]
[null,"10.3.2.6","Impermeabilização com Argamassa Polimérica Bicomponente Semiflexível, 03 Demãos Cruzadas","M2",7.9168134870462783,27.34,{"$f":"BDI!$C$26","v":0.2034},32.9,260.45999999999998,98555,"SINAPI"]
[null,"10.3.2.7","Brita n2 (Fornecimento e colocação)","M3",0.6785840131753953,82.2,{"$f":"BDI!$C$26","v":0.2034},{"$f":"TRUNC(((F215*G215)+F215),2)","v":98.91},{"$f":"IF(ISERR(ROUND((E215*H215),2)),\"\",ROUND((E215*H215),2))","v":67.12},88549,"SINAPI"]
[null,"10.3.2.8","Calha de Concreto Ø15cm","M",1.2,24.43,{"$f":"BDI!$C$26","v":0.2034},29.39,35.270000000000003,"73882/1","SINAPI"]
[null,"10.3.2.9","Tubo PVC, 100mm","M",1.3,43.72,{"$f":"BDI!$C$26","v":0.2034},52.61,68.39,89714,"SINAPI"]
[null,"10.3.2.10","Joelho 90°, 100mm","UN",1,18.010000000000002,{"$f":"BDI!$C$26","v":0.2034},21.67,21.67,89746,"SINAPI"]
[null,"10.3.2.11","Tubo PVC, 150mm","M",2,39.619999999999997,{"$f":"BDI!$C$26","v":0.2034},47.67,95.34,89849,"SINAPI"]
[null,"10.3.2.12","Cap, 150mm","UN",1,11.2,{"$f":"BDI!$C$26","v":0.2034},13.47,13.47,72295,"SINAPI"]
[null,11,"REDE PLUVIAL",null,null,null,null,"∑ ",{"$f":"SUBTOTAL(9,I222:I236)","v":7309.420000000001}]
[null,"11.1","Caixa de Areia Pluvial"]
[null,"11.1.1","Alvenaria com Tampa, 60x60cm","UN",4,359.12,{"$f":"BDI!$C$26","v":0.2034},{"$f":"TRUNC(((F223*G223)+F223),2)","v":432.16},{"$f":"IF(ISERR(ROUND((E223*H223),2)),\"\",ROUND((E223*H223),2))","v":1728.64},99260,"SINAPI"]
[null,"11.2","Curva  PVC 90° Curta"]
[null,"11.2.1","75mm","UN",6,20.96,{"$f":"BDI!$C$26","v":0.2034},{"$f":"TRUNC(((F225*G225)+F225),2)","v":25.22},{"$f":"IF(ISERR(ROUND((E225*H225),2)),\"\",ROUND((E225*H225),2))","v":151.32},89742,"SINAPI"]
[null,"11.2.2","100mm","UN",12,25.8,{"$f":"BDI!$C$26","v":0.2034},31.04,372.48,89748,"SINAPI"]
[null,"11.3","Joelho PVC 45°"]
[null,"11.3.1","75mm","UN",4,14.33,{"$f":"BDI!$C$26","v":0.2034},{"$f":"TRUNC(((F228*G228)+F228),2)","v":17.239999999999998},{"$f":"IF(ISERR(ROUND((E228*H228),2)),\"\",ROUND((E228*H228),2))","v":68.959999999999994},89739,"SINAPI"]
[null,"11.3.2","100mm","UN",2,18.010000000000002,{"$f":"BDI!$C$26","v":0.2034},21.67,43.34,89746,"SINAPI"]
[null,"11.4","Tubo Rígido com Ponta Lisa, Condutores Horizontais, Com Escavação"]
[null,"11.4.1","75mm - 3\"","M",16.579999999999998,29.07,{"$f":"BDI!$C$26","v":0.2034},{"$f":"TRUNC(((F231*G231)+F231),2)","v":34.979999999999997},{"$f":"IF(ISERR(ROUND((E231*H231),2)),\"\",ROUND((E231*H231),2))","v":579.97},89511,"SINAPI"]
[null,"11.4.2","100mm - 4\"","M",31.64,44.94,{"$f":"BDI!$C$26","v":0.2034},54.08,1711.09,89512,"SINAPI"]
[null,"11.4.3","150mm - 6\"","M",24.39,66.92,{"$f":"BDI!$C$26","v":0.2034},80.53,1964.13,"CHD024","COMPOSIÇÃO"]
[null,"11.5","Tubo Rígido com Ponta Lisa, Condutores Verticais"]
[null,"11.5.1","75mm - 3\"","M",8.83,15.37,{"$f":"BDI!$C$26","v":0.2034},{"$f":"TRUNC(((F235*G235)+F235),2)","v":18.489999999999998},{"$f":"IF(ISERR(ROUND((E235*H235),2)),\"\",ROUND((E235*H235),2))","v":163.27000000000001},89576,"SINAPI"]
[null,"11.5.2","100mm - 4\"","M",16.600000000000001,26.35,{"$f":"BDI!$C$26","v":0.2034},31.7,526.22,89578,"SINAPI"]
[null,12,"INSTALAÇÕES DE GÁS COMBUSTÍVEL",null,null,null,null,"∑ ",{"$f":"SUBTOTAL(9,I238:I243)","v":2034.41}]
[null,"12.1","Pontos"]
[null,"12.1.1","Ponto de Gás (Válvula, Registro e Tubo de Cobre 1/2\")","UN ",2,193.1,{"$f":"BDI!$C$26","v":0.2034},{"$f":"TRUNC(((F239*G239)+F239),2)","v":232.37},{"$f":"IF(ISERR(ROUND((E239*H239),2)),\"\",ROUND((E239*H239),2))","v":464.74},"CPR100","COMPOSIÇÃO"]
[null,"12.2","Abrigos"]
[null,"12.2.1","Abrigo de Gás (2-P13)","UN ",1,1219.4100000000001,{"$f":"BDI!$C$26","v":0.2034},1467.43,1467.43,"CPR110","COMPOSIÇÃO"]
[null,"12.3","Ventilação Permanente"]
[null,"12.3.1","Grade de Ventilação Redonda, com Mola, Ø155mm (fornecimento e instalação)","UN ",4,21.240000000000002,{"$f":"BDI!$C$26","v":0.2034},25.56,102.24,"CPR120","COMPOSIÇÃO"]
[null,"                                                                                                                         ACABAMENTOS"]
[null,13,"REVESTIMENTO PISO",null,null,null,null,"∑ ",{"$f":"SUBTOTAL(9,I246:I250)","v":17308.04}]
[null,"13.1","Soleira de Granito Jateada, e=2cm (fornecimento e assentamento)","M",18.200000000000003,76.02,{"$f":"BDI!$C$26","v":0.2034},{"$f":"TRUNC(((F246*G246)+F246),2)","v":91.48},{"$f":"IF(ISERR(ROUND((E246*H246),2)),\"\",ROUND((E246*H246),2))","v":1664.94},98689,"SINAPI"]
[null,"13.2","Piso Cerâmico"]
[null,"13.2.1","Piso Cerâmico ACETINADO FOSCO 60x60, PEI 5, assentado com Argamassa","M2",120.95,67.180000000000007,{"$f":"BDI!$C$26","v":0.2034},{"$f":"TRUNC(((F248*G248)+F248),2)","v":80.84},{"$f":"IF(ISERR(ROUND((E248*H248),2)),\"\",ROUND((E248*H248),2))","v":9777.6},87257,"SINAPI"]
[null,"13.2.2","Piso Cerâmico ANTIDERRAPANTE, 60x60, PEI 5, assentado com Argamassa","M2",57.56,67.180000000000007,{"$f":"BDI!$C$26","v":0.2034},{"$f":"TRUNC(((F249*G249)+F249),2)","v":80.84},4653.1499999999996,87257,"SINAPI"]
[null,"13.2.3","Rodapé Cerâmico de 7cm, assentado com Argamassa","M",81.86,12.31,{"$f":"BDI!$C$26","v":0.2034},{"$f":"TRUNC(((F250*G250)+F250),2)","v":14.81},1212.3499999999999,88650,"SINAPI"]
[null,14,"REVESTIMENTO PAREDE",null,null,null,null,"∑ ",{"$f":"SUBTOTAL(9,I252:I256)","v":31498.13}]
[null,"14.1","Chapisco","M2",517.00999999999988,3.32,{"$f":"BDI!$C$26","v":0.2034},{"$f":"TRUNC(((F252*G252)+F252),2)","v":3.99},{"$f":"IF(ISERR(ROUND((E252*H252),2)),\"\",ROUND((E252*H252),2))","v":2062.87},87879,"SINAPI"]
[null,"14.2","Emboço/Reboco (Massa Única)","M2",517.00999999999988,26.83,{"$f":"BDI!$C$26","v":0.2034},32.28,16689.080000000002,89173,"SINAPI"]
[null,"14.3","Peitoril de Granito Polido, e=2cm, com Pingadeira (fornecimento e assentamento)","M",15.399999999999999,100.21,{"$f":"BDI!$C$26","v":0.2034},{"$f":"TRUNC(((F254*G254)+F254),2)","v":120.59},{"$f":"IF(ISERR(ROUND((E254*H254),2)),\"\",ROUND((E254*H254),2))","v":1857.09},84088,"SINAPI"]
[null,"14.4","Azulejos 30x60cm (fornecimento e assentamento)","M2",115.87999999999997,64.149999999999991,{"$f":"BDI!$C$26","v":0.2034},{"$f":"TRUNC(((F255*G255)+F255),2)","v":77.19},8944.7800000000007,"CED111","COMPOSIÇÃO"]
[null,"14.5","Revestimento Pedra São Tomé em Filetes Irregulares","M2",15.37,105.11999999999999,{"$f":"BDI!$C$26","v":0.2034},126.5,{"$f":"IF(ISERR(ROUND((E256*H256),2)),\"\",ROUND((E256*H256),2))","v":1944.31},"CED500","COMPOSIÇÃO"]
[null,15,"PINTURA",null,null,null,null,"∑ ",{"$f":"SUBTOTAL(9,I258:I259)","v":7082.5599999999995}]
[null,"15.1","Fundo Preparador para Pintura Acrílica, uma demão","M2",385.76,2.54,{"$f":"BDI!$C$26","v":0.2034},{"$f":"TRUNC(((F258*G258)+F258),2)","v":3.05},{"$f":"IF(ISERR(ROUND((E258*H258),2)),\"\",ROUND((E258*H258),2))","v":1176.57},88415,"SINAPI"]
[null,"15.2","Pintura Acrílica, duas demãos","M2",385.76,12.73,{"$f":"BDI!$C$26","v":0.2034},{"$f":"TRUNC(((F259*G259)+F259),2)","v":15.31},{"$f":"IF(ISERR(ROUND((E259*H259),2)),\"\",ROUND((E259*H259),2))","v":5905.99},88489,"SINAPI"]
[null,16,"FORRO",null,null,null,null,"∑ ",{"$f":"SUBTOTAL(9,I261:I262)","v":6403.25}]
[null,"16.1","Forro de PVC em Réguas, Liso (inclusive estrutura de fixação, fornecimento e colocação)","M2",88,47.65,{"$f":"BDI!$C$26","v":0.2034},{"$f":"TRUNC(((F261*G261)+F261),2)","v":57.34},{"$f":"IF(ISERR(ROUND((E261*H261),2)),\"\",ROUND((E261*H261),2))","v":5045.92},96485,"SINAPI"]
[null,"16.2","Rodaforro de PVC (fornecimento e instalação)","M",145.48000000000002,7.76,{"$f":"BDI!$C$26","v":0.2034},{"$f":"TRUNC(((F262*G262)+F262),2)","v":9.33},1357.33,96121,"SINAPI"]
[null,17,"ESQUADRIAS",null,null,null,null,"∑ ",{"$f":"SUBTOTAL(9,I264:I280)","v":51559.209999999992}]
[null,"17.1","Janelas"]
[null,"17.1.1","J1 - 2Fl. Fixa e 2Fl. Maxim-Ar - Alumínio e Vidro - 1,30 x 2,05 (04 Unidades)","M2",10.66,696.47,{"$f":"BDI!$C$26","v":0.2034},{"$f":"TRUNC(((F265*G265)+F265),2)","v":838.13},{"$f":"IF(ISERR(ROUND((E265*H265),2)),\"\",ROUND((E265*H265),2))","v":8934.4699999999993},94581,"SINAPI"]
[null,"17.1.2","J2 - 1Fl. Fixa e 1Fl. Maxim-Ar - Alumínio e Vidro - 0,70 x 2,05 (04 Unidades)","M2",5.74,696.47,{"$f":"BDI!$C$26","v":0.2034},{"$f":"TRUNC(((F266*G266)+F266),2)","v":838.13},{"$f":"IF(ISERR(ROUND((E266*H266),2)),\"\",ROUND((E266*H266),2))","v":4810.87},94581,"SINAPI"]
[null,"17.1.3","J3 - 1Fl. Maxim-Ar - Alumínio e Vidro - 0,50 x 1,00 (02 Unidades)","M2",1,696.47,{"$f":"BDI!$C$26","v":0.2034},{"$f":"TRUNC(((F267*G267)+F267),2)","v":838.13},{"$f":"IF(ISERR(ROUND((E267*H267),2)),\"\",ROUND((E267*H267),2))","v":838.13},94581,"SINAPI"]
[null,"17.1.4","J4 - 2Fl. Correr - Alumínio e Vidro - 1,60 x 1,65 (02 Unidades)","M2",5.28,429.53,{"$f":"BDI!$C$26","v":0.2034},{"$f":"TRUNC(((F268*G268)+F268),2)","v":516.89},{"$f":"IF(ISERR(ROUND((E268*H268),2)),\"\",ROUND((E268*H268),2))","v":2729.18},94582,"SINAPI"]
[null,"17.1.5","J5 - 2Fl. Correr - Alumínio e Vidro - 1,30 x 1,25 (02 Unidades)","M2",3.25,429.53,{"$f":"BDI!$C$26","v":0.2034},{"$f":"TRUNC(((F269*G269)+F269),2)","v":516.89},{"$f":"IF(ISERR(ROUND((E269*H269),2)),\"\",ROUND((E269*H269),2))","v":1679.89},94582,"SINAPI"]
[null,"17.1.6","J6 - 1Fl. Maxim-Ar - Alumínio e Vidro - 0,60 x 1,25 (01 Unidades)","M2",0.75,696.47,{"$f":"BDI!$C$26","v":0.2034},{"$f":"TRUNC(((F270*G270)+F270),2)","v":838.13},{"$f":"IF(ISERR(ROUND((E270*H270),2)),\"\",ROUND((E270*H270),2))","v":628.6},94581,"SINAPI"]
[null,"17.2","Portas"]
[null,"17.2.1","P1 - 2Fl. de Abrir com Bandeira Fixa - Alumínio e Vidro - 2,00 x 2,55 (02 Unidades)","M2",10.199999999999999,685.94,{"$f":"BDI!$C$26","v":0.2034},825.46,{"$f":"IF(ISERR(ROUND((E272*H272),2)),\"\",ROUND((E272*H272),2))","v":8419.69},68050,"SINAPI"]
[null,"17.2.2","P2 - 4Fl. de Correr (Empilhar) - Alumínio e Vidro Jateado - 3,60 x 2,55 (01 Unidades)","M2",9.18,685.94,{"$f":"BDI!$C$26","v":0.2034},{"$f":"TRUNC(((F273*G273)+F273),2)","v":825.46},{"$f":"IF(ISERR(ROUND((E273*H273),2)),\"\",ROUND((E273*H273),2))","v":7577.72},68050,"SINAPI"]
[null,"17.2.3","P3 - 2Fl. de Correr com Bandeira - Madeira e Vidro - 0,90 x 2,55 (02 Unidades)","UN",2,938.63,{"$f":"BDI!$C$26","v":0.2034},1129.54,2259.08,"CES005","COMPOSIÇÃO"]
[null,"17.2.4","P4 - 1Fl. De Abrir - Madeira Compensada - 0,90 x 2,10 (04 Unidades)","UN",4,938.63,{"$f":"BDI!$C$26","v":0.2034},{"$f":"TRUNC(((F275*G275)+F275),2)","v":1129.54},{"$f":"IF(ISERR(ROUND((E275*H275),2)),\"\",ROUND((E275*H275),2))","v":4518.16},"CES005","COMPOSIÇÃO"]
[null,"17.2.5","P5 - 1Fl. de Correr - Veneziana de Alumínio - 0,90 x 2,10 (02 Unidades)","M2",3.78,808.36,{"$f":"BDI!$C$26","v":0.2034},972.78,3677.11,91341,"SINAPI"]
[null,"17.2.6","P6 - 1Fl. de Abrir - Veneziana de Alumínio - 0,80 x 2,10 (01 Unidades)","M2",1.68,808.36,{"$f":"BDI!$C$26","v":0.2034},{"$f":"TRUNC(((F277*G277)+F277),2)","v":972.78},{"$f":"IF(ISERR(ROUND((E277*H277),2)),\"\",ROUND((E277*H277),2))","v":1634.27},91341,"SINAPI"]
[null,"17.2.7","P7 - 3Fl. de Correr - Alumínio e Vidro Jateado - 1,60 x 2,10 (01 Unidades)","M2",3.36,685.94,{"$f":"BDI!$C$26","v":0.2034},825.46,2773.55,68050,"SINAPI"]
[null,"17.2.8","P8 - 2Fl. de Abrir - Veneziana de Alumínio - 1,00 x 1,00 (01 Unidades)","M2",1,808.36,{"$f":"BDI!$C$26","v":0.2034},{"$f":"TRUNC(((F279*G279)+F279),2)","v":972.78},{"$f":"IF(ISERR(ROUND((E279*H279),2)),\"\",ROUND((E279*H279),2))","v":972.78},91341,"SINAPI"]
[null,"17.2.9","Placa de Proteção de Impacto nas Portas, 40x90cm (fornecimento e instalação)","M2",1.4400000000000002,61.010000000000005,{"$f":"BDI!$C$26","v":0.2034},{"$f":"TRUNC(((F280*G280)+F280),2)","v":73.41},{"$f":"IF(ISERR(ROUND((E280*H280),2)),\"\",ROUND((E280*H280),2))","v":105.71},"CAC013","COMPOSIÇÃO"]
[null,18,"APARELHOS SANITÁRIOS, LOUÇAS, METAIS E ACESSÓRIOS",null,null,null,null,"∑ ",{"$f":"SUBTOTAL(9,I282:I297)","v":5416.6500000000005}]
[null,"18.1","Lavatório Louça Branca Suspenso, 29,5x39cm ou equivalente, Padrão Popular, incluso Sifão Copo em PVC, Válvula e Engate Flexível 30cm em Plástico e com Torneira Cromada de Mesa, Padrão Popular (fornecimento e instalação)","UN",2,178.48,{"$f":"BDI!$C$26","v":0.2034},{"$f":"TRUNC(((F282*G282)+F282),2)","v":214.78},{"$f":"IF(ISERR(ROUND((E282*H282),2)),\"\",ROUND((E282*H282),2))","v":429.56},86942,"SINAPI"]
[null,"18.2","Vaso Sanitário para Válvula de Descarga de 1.1/2\" incluso Conjunto de Ligação para Bacia Sanitária Ajustável (fornecimento e instalação)","UN",2,166.46,{"$f":"BDI!$C$26","v":0.2034},200.31,400.62,95470,"SINAPI"]
[null,"18.3","Ducha Higiênica Metálica de Parede Articulável (fornecimento e instalação)","UN",2,202.99,{"$f":"BDI!$C$26","v":0.2034},244.27,488.54,"CAC001","COMPOSIÇÃO"]
[null,"18.4","Alarme de Emergencia Audiovisual  (fornecimento e instalação)","UN",2,459.95,{"$f":"BDI!$C$26","v":0.2034},553.5,1107,"CAC002","COMPOSIÇÃO"]
[null,"18.5","Barra de Apoio"]
[null,"18.5.1","Barra de Apoio Angular, 60cm, em Aço Inox Polido (fornecimento e instalação)","UN",2,199,{"$f":"BDI!$C$26","v":0.2034},239.47,478.94,"CAC003","COMPOSIÇÃO"]
[null,"18.5.2","Barra de Apoio Reta, em Alumínio, 40cm (fornecimento e instalação)","UN",4,105.46000000000001,{"$f":"BDI!$C$26","v":0.2034},126.91,507.64,"CAC004","COMPOSIÇÃO"]
[null,"18.5.3","Barra de Apoio Reta, em Alumínio, 70cm (fornecimento e instalação)","UN",2,119.22999999999999,{"$f":"BDI!$C$26","v":0.2034},143.47999999999999,286.95999999999998,"CAC005","COMPOSIÇÃO"]
[null,"18.5.4","Barra de Apoio Reta, em Alumínio, 80cm (fornecimento e instalação)","UN",4,128.02000000000001,{"$f":"BDI!$C$26","v":0.2034},154.05000000000001,616.20000000000005,"CAC006","COMPOSIÇÃO"]
[null,"18.6","Espelho Cristal 80x50cm e=4mm, com Moldura de Madeira","M2",0.9,399.53,{"$f":"BDI!$C$26","v":0.2034},480.79,432.71,"74125/1","SINAPI"]
[null,"18.7","Saboneteira Plástica tipo Dispenser para Sabonete Líquido (fornecimento e instalação)","UN",2,61.51,{"$f":"BDI!$C$26","v":0.2034},74.02,148.04,95547,"SINAPI"]
[null,"18.8","Toalheiro Plástico tipo Dispenser para Papel Toalha Interfolhado (fornecimento e instalação)","UN",2,59.48,{"$f":"BDI!$C$26","v":0.2034},71.569999999999993,143.13999999999999,"CAC007","COMPOSIÇÃO"]
[null,"18.9","Papeleira Plástica tipo Dispenser para Papel Higiênico para Rolo de 300m (fornecimento e instalação)","UN",2,59.48,{"$f":"BDI!$C$26","v":0.2034},71.569999999999993,143.13999999999999,"CAC008","COMPOSIÇÃO"]
[null,"18.10","Gancho para Pendurar Utensílios  (fornecimento e instalação)","UN",2,29.689999999999998,{"$f":"BDI!$C$26","v":0.2034},35.72,71.44,"CAC009","COMPOSIÇÃO"]
[null,"18.11","Porta Objetos em MDF (fornecimento e instalação)","UN ",2,32.97,{"$f":"BDI!$C$26","v":0.2034},39.67,79.34,"CAC010","COMPOSIÇÃO"]
[null,"18.12","Lixeira Basculante de PVC 12 Litros","UN",2,34.65,{"$f":"BDI!$C$26","v":0.2034},41.69,83.38,"CAC011","COMPOSIÇÃO"]
[null,19,"ACESSÓRIOS DO PREVENTIVO CONTRA INCÊNDIO",null,null,null,null,"∑ ",{"$f":"SUBTOTAL(9,I299:I307)","v":2436.66}]
[null,"19.1","Placas"]
[null,"19.1.1","Bloco Autônomo com Indicação de Saída","UN ",4,72.56,{"$f":"BDI!$C$26","v":0.2034},{"$f":"TRUNC(((F300*G300)+F300),2)","v":87.31},{"$f":"IF(ISERR(ROUND((E300*H300),2)),\"\",ROUND((E300*H300),2))","v":349.24},"CPR001","COMPOSIÇÃO"]
[null,"19.1.2","Placa Indicativa de Lotação Máxima em PVC 80x60cm","UN ",4,140.89000000000001,{"$f":"BDI!$C$26","v":0.2034},169.54,678.16,"CPR002","COMPOSIÇÃO"]
[null,"19.1.3","Placa Indicativa de Extintor de Incêndio em PVC","UN ",4,37.21,{"$f":"BDI!$C$26","v":0.2034},44.77,179.08,"CPR003","COMPOSIÇÃO"]
[null,"19.2","Extintores"]
[null,"19.2.1","Extintor de Incêndio de Pó Químico Seco de 4Kg","UN",2,110.13,{"$f":"BDI!$C$26","v":0.2034},132.53,{"$f":"IF(ISERR(ROUND((E304*H304),2)),\"\",ROUND((E304*H304),2))","v":265.06},72553,"SINAPI"]
[null,"19.3","Iluminação de Emergência"]
[null,"19.3.1","Bloco Autônomo de Iluminação de Emergência","UN",2,39.24,{"$f":"BDI!$C$26","v":0.2034},47.22,{"$f":"IF(ISERR(ROUND((E306*H306),2)),\"\",ROUND((E306*H306),2))","v":94.44},97599,"SINAPI"]
[null,"19.3.2","Bloco Autônomo de Iluminação de 2 Faróis de 55W","UN ",2,361.76,{"$f":"BDI!$C$26","v":0.2034},435.34,870.68,"CPR005","COMPOSIÇÃO"]
[null,20,"ACESSÓRIOS DE ACESSIBILIDADE",null,null,null,null,"∑ ",{"$f":"SUBTOTAL(9,I309:I311)","v":2884.25}]
[null,"20.1","Placa Tátil Braille para Sinalização de Ambientes de Acrílico com Nome do Ambiente, 20x12cm","UN",9,48.03,{"$f":"BDI!$C$26","v":0.2034},{"$f":"TRUNC(((F309*G309)+F309),2)","v":57.79},{"$f":"IF(ISERR(ROUND((E309*H309),2)),\"\",ROUND((E309*H309),2))","v":520.11},"CAC012","COMPOSIÇÃO"]
[null,"20.2","Mapa Acessível de Parede em Aço Inox, 60x50cm","UN ",1,1844.01,{"$f":"BDI!$C$26","v":0.2034},{"$f":"TRUNC(((F310*G310)+F310),2)","v":2219.08},{"$f":"IF(ISERR(ROUND((E310*H310),2)),\"\",ROUND((E310*H310),2))","v":2219.08},"CPR004","COMPOSIÇÃO"]
[null,"20.3","Podotátil Direcional ou Alerta de PVC Colorido, 25x25cm, Colado, e=5cm (fornecimento e assentamento)","M2",0.75,160.72,{"$f":"BDI!$C$26","v":0.2034},{"$f":"TRUNC(((F311*G311)+F311),2)","v":193.41},{"$f":"IF(ISERR(ROUND((E311*H311),2)),\"\",ROUND((E311*H311),2))","v":145.06},"CED109","COMPOSIÇÃO"]
[null,"                                                                                                                         ÁREA EXTERNA"]
[null,21,"PAVIMENTAÇÃO",null,null,null,null,"∑ ",{"$f":"SUBTOTAL(9,I314:I316)","v":3386.12}]
[null,"21.1","Pavimentacao em Blocos Intertravados de Concreto (PAVER CINZA), e=8,0 cm, FCK 35Mpa, Assentados sobre Colchao de Areia e=8cm (fornecimento e colocação)","M2",32,43.41,{"$f":"BDI!$C$26","v":0.2034},{"$f":"TRUNC(((F314*G314)+F314),2)","v":52.23},{"$f":"IF(ISERR(ROUND((E314*H314),2)),\"\",ROUND((E314*H314),2))","v":1671.36},92397,"SINAPI"]
[null,"21.2","Meio Fio Pré-Moldado de Concreto Tipo 1 (arredondado) (6x10)x10x30 (fornecimento e colocação)","M",27.01,31.950000000000003,{"$f":"BDI!$C$26","v":0.2034},38.44,1038.26,"CPA007","COMPOSIÇÃO"]
[null,"21.3","Placa e Pintura para Vaga Acessível (PCD e Idoso)","UN ",1,562.16,{"$f":"BDI!$C$26","v":0.2034},{"$f":"TRUNC(((F316*G316)+F316),2)","v":676.5},{"$f":"ROUND((E316*H316),2)","v":676.5},"COM003","COMPOSIÇÃO"]
[null,22,"LETRAS   ",null,null,null,null,"∑ ",{"$f":"SUBTOTAL(9,I318)","v":3850.16}]
[null,"22.1","Letras em Chapa Galvanizada  +Tinta PU+Verniz - Relevo 3cm/H=20cm(Cor Preta Acabamento Brilho)  (4,60m x 0,20m )  (Fornecimento e Instalação)","UN",1,3400,{"$f":"'BDI (2)'!C26","v":0.13239999999999999},{"$f":"TRUNC(((F318*G318)+F318),2)","v":3850.16},{"$f":"ROUND((E318*H318),2)","v":3850.16},"MED119","Mercado"]
[]
[null,null,null,null,null,null,null,"TOTAL:",{"$f":"SUBTOTAL(9,I4:I319)","v":384952.18000000011}]
[]
[]
[null,"Rio do Sul,","2020-02-11"]

{"sheet":"CRONOGRAMA","index":1,"n_rows":531,"n_cols":18,"rows_kept":531,"cut":false,"hidden":false,"merged":[]}
[]
[null,null,null,null,null,1,null,{"$f":"F2+1","v":2},null,{"$f":"H2+1","v":3},null,{"$f":"J2+1","v":4},null,{"$f":"L2+1","v":5}]
[null,"TODOS OS VALORES ESTÃO NA UNIDADE MONETÁRIA REAL"]
[null,"ITEM ","DESCRIÇÃO ","TOTAL","%",{"$f":"F2&\"° MÊS\"","v":"1° MÊS"},"%",{"$f":"H2&\"° MÊS\"","v":"2° MÊS"},"%",{"$f":"J2&\"° MÊS\"","v":"3° MÊS"},"%",{"$f":"L2&\"° MÊS\"","v":"4° MÊS"},"%",{"$f":"N2&\"° MÊS\"","v":"5° MÊS"},"%",null,null,"TOTAL"]
[]
[null,{"$f":"ORÇAMENTO!B5","v":1},{"$f":"ORÇAMENTO!C5","v":"SERVIÇOS INICIAIS"},{"$f":"ORÇAMENTO!I5","v":8408.380000000001},{"$f":"D6*100/$D$33","v":2.1842661080656831},{"$f":"$D6*G6/100","v":8408.380000000001},100,{"$f":"$D6*I6/100","v":0},0,{"$f":"$D6*K6/100","v":0},0,{"$f":"$D6*M6/100","v":0},0,{"$f":"$D6*O6/100","v":0},0,null,null,{"$f":"SUM(G6,I6,K6,M6,O6,)","v":100}]
[]
[null,{"$f":"ORÇAMENTO!B10","v":2},{"$f":"ORÇAMENTO!C10","v":"INFRAESTRUTURA"},{"$f":"ORÇAMENTO!I10","v":38046.719999999994},{"$f":"D8*100/$D$33","v":9.8834925418528616},38046.719999999994,100,0,0,0,0,0,0,0,0,null,null,{"$f":"SUM(G8,I8,K8,M8,O8,)","v":100}]
[null,{"$f":"ORÇAMENTO!B24","v":3},{"$f":"ORÇAMENTO!C24","v":"SUPRAESTRUTURA"},{"$f":"ORÇAMENTO!I24","v":53858.83},{"$f":"D9*100/$D$33","v":13.991044290228466},26929.415000000001,50,26929.415000000001,50,0,0,0,0,0,0,null,null,100]
[null,{"$f":"ORÇAMENTO!B39","v":4},{"$f":"ORÇAMENTO!C39","v":"FECHAMENTOS"},{"$f":"ORÇAMENTO!I39","v":24445.82},{"$f":"D10*100/$D$33","v":6.3503523996149349},0,0,24445.82,100,0,0,0,0,0,0,null,null,100]
[null,{"$f":"ORÇAMENTO!B42","v":5},{"$f":"ORÇAMENTO!C42","v":"COBERTURA"},{"$f":"ORÇAMENTO!I42","v":56063.989999999991},{"$f":"D11*100/$D$33","v":14.563884272586792},0,0,28031.994999999995,50,28031.994999999995,50,0,0,0,0,null,null,100]
[null,{"$f":"ORÇAMENTO!B52","v":6},{"$f":"ORÇAMENTO!C52","v":"PISO"},{"$f":"ORÇAMENTO!I52","v":19329.7},{"$f":"D12*100/$D$33","v":5.021324986391817},0,0,0,0,0,0,19329.7,100,0,0,null,null,100]
[]
[null,{"$f":"ORÇAMENTO!B61","v":7},{"$f":"ORÇAMENTO!C61","v":"INSTALAÇÕES ELÉTRICAS"},{"$f":"ORÇAMENTO!I61","v":28934.460000000003},{"$f":"D14*100/$D$33","v":7.5163777485297034},5786.8920000000007,20,0,0,23147.568000000003,80,0,0,0,0,null,null,{"$f":"SUM(G14,I14,K14,M14,O14,)","v":100}]
[null,{"$f":"ORÇAMENTO!B99","v":8},{"$f":"ORÇAMENTO!C99","v":"INSTALAÇÕES DA REDE LÓGICA E TELEFONIA"},{"$f":"ORÇAMENTO!I99","v":2308.59},0.59970825467204791,461.71800000000002,20,0,0,1846.8720000000001,80,0,0,0,0,null,null,100]
[null,{"$f":"ORÇAMENTO!B106","v":9},{"$f":"ORÇAMENTO!C106","v":"REDE HIDRÁULICA"},{"$f":"ORÇAMENTO!I106","v":4027.6400000000003},1.0462702146536749,805.52800000000002,20,0,0,3222.1120000000001,80,0,0,0,0,null,null,100]
[null,{"$f":"ORÇAMENTO!B164","v":10},{"$f":"ORÇAMENTO!C164","v":"REDE SANITÁRIA"},{"$f":"ORÇAMENTO!I164","v":8359.1899999999969},2.1714878975357403,0,0,0,0,8359.1899999999969,100,0,0,0,0,null,null,100]
[null,{"$f":"ORÇAMENTO!B221","v":11},{"$f":"ORÇAMENTO!C221","v":"REDE PLUVIAL"},{"$f":"ORÇAMENTO!I221","v":7309.420000000001},1.8987864934288727,0,0,0,0,7309.420000000001,100,0,0,0,0,null,null,100]
[null,{"$f":"ORÇAMENTO!B237","v":12},{"$f":"ORÇAMENTO!C237","v":"INSTALAÇÕES DE GÁS COMBUSTÍVEL"},{"$f":"ORÇAMENTO!I237","v":2034.41},0.5284838236271322,0,0,0,0,0,0,2034.41,100,0,0,null,null,100]
[]
[null,{"$f":"ORÇAMENTO!B245","v":13},{"$f":"ORÇAMENTO!C245","v":"REVESTIMENTO PISO"},{"$f":"ORÇAMENTO!I245","v":17308.04},{"$f":"D21*100/$D$33","v":4.4961532624649649},0,0,0,0,0,0,17308.04,100,0,0,null,null,{"$f":"SUM(G21,I21,K21,M21,O21,)","v":100}]
[null,{"$f":"ORÇAMENTO!B251","v":14},{"$f":"ORÇAMENTO!C251","v":"REVESTIMENTO PAREDE"},{"$f":"ORÇAMENTO!I251","v":31498.13},8.1823487790093843,0,0,0,0,0,0,31498.13,100,0,0,null,null,100]
[null,{"$f":"ORÇAMENTO!B257","v":15},{"$f":"ORÇAMENTO!C257","v":"PINTURA"},{"$f":"ORÇAMENTO!I257","v":7082.5599999999995},1.8398544982911906,0,0,0,0,0,0,7082.56,100,0,0,null,null,100]
[null,{"$f":"ORÇAMENTO!B260","v":16},{"$f":"ORÇAMENTO!C260","v":"FORRO"},{"$f":"ORÇAMENTO!I260","v":6403.25},1.6633884239855456,0,0,0,0,0,0,0,0,6403.25,100,null,null,100]
[null,{"$f":"ORÇAMENTO!B263","v":17},{"$f":"ORÇAMENTO!C263","v":"ESQUADRIAS"},{"$f":"ORÇAMENTO!I263","v":51559.209999999992},13.39366619511026,0,0,0,0,0,0,0,0,51559.209999999992,100,null,null,100]
[null,{"$f":"ORÇAMENTO!B281","v":18},{"$f":"ORÇAMENTO!C281","v":"APARELHOS SANITÁRIOS, LOUÇAS, METAIS E ACESSÓRIOS"},{"$f":"ORÇAMENTO!I281","v":5416.6500000000005},1.4070968503152783,0,0,0,0,0,0,0,0,5416.65,100,null,null,100]
[null,{"$f":"ORÇAMENTO!B298","v":19},{"$f":"ORÇAMENTO!C298","v":"ACESSÓRIOS DO PREVENTIVO CONTRA INCÊNDIO"},{"$f":"ORÇAMENTO!I298","v":2436.66},0.63297732201438639,0,0,0,0,0,0,0,0,2436.66,100,null,null,100]
[null,{"$f":"ORÇAMENTO!B308","v":20},{"$f":"ORÇAMENTO!C308","v":"ACESSÓRIOS DE ACESSIBILIDADE"},{"$f":"ORÇAMENTO!I308","v":2884.25},0.74924890670836064,0,0,0,0,0,0,0,0,2884.25,100,null,null,100]
[]
[null,{"$f":"ORÇAMENTO!B313","v":21},{"$f":"ORÇAMENTO!C313","v":"PAVIMENTAÇÃO"},{"$f":"ORÇAMENTO!I313","v":3386.12},{"$f":"D30*100/$D$33","v":0.87962094408713321},0,0,0,0,0,0,0,0,3386.12,100,null,null,{"$f":"SUM(G30,I30,K30,M30,O30,)","v":100}]
[null,{"$f":"ORÇAMENTO!B317","v":22},{"$f":"ORÇAMENTO!C317","v":"LETRAS   "},{"$f":"ORÇAMENTO!I317","v":3850.16},{"$f":"D31*100/$D$33","v":1.0001657868257821},{"$f":"$D31*G31/100","v":0},0,{"$f":"$D31*I31/100","v":0},0,{"$f":"$D31*K31/100","v":0},0,{"$f":"$D31*M31/100","v":0},0,{"$f":"$D31*O31/100","v":3850.16},100,null,null,100]
[]
[null,null,"SUBTOTAL",{"$f":"SUM(D6:D32)","v":384952.17999999993},{"$f":"SUM(E6:E32)","v":100},{"$f":"SUM(F6:F32)","v":80438.652999999991},{"$f":"F33*100/$D$33","v":20.89575203860386},{"$f":"SUM(H6:H32)","v":79407.23},{"$f":"H33*100/$D$33","v":20.627816681022566},{"$f":"SUM(J6:J32)","v":71917.156999999992},{"$f":"J33*100/$D$33","v":18.682101501542348},{"$f":"SUM(L6:L32)","v":77252.84},{"$f":"L33*100/$D$33","v":20.06816534978449},{"$f":"SUM(N6:N32)","v":75936.299999999988},{"$f":"N33*100/$D$33","v":19.726164429046747}]
[null,null,"TOTAL ACUMULADO",null,null,{"$f":"F33","v":80438.652999999991},{"$f":"G33","v":20.89575203860386},{"$f":"F34+H33","v":159845.88299999997},{"$f":"G34+I33","v":41.523568719626425},231763.03999999998,60.205670221168774,309015.88,80.273835570953267,384952.18,100.00000000000001]
[]
[]
[null,null,"VALOR DO ORÇAMENTO",{"$f":"ORÇAMENTO!I320","v":384952.18000000011}]
[]
[null,null,null,384952.18000000011]
[]
[]
[]
[]
[]
[]
[]
[]
[]
[]
[]
[]
[]
[]
[]
[]
[]
[]
[]
[]
[]
[]
[]
[]
[]
[]
[]
[]
[]
[]
[]
[]
[]
[]
[]
[]
[]
[]
[]
[]
[]
[]
[]
[]
[]
[]
[]
[]
[]
[]
[]
[]
[]
[]
[]
[]
[]
[]
[]
[]
[]
[]
[]
[]
[]
[]
[]
[]
[]
[]
[]
[]
[]
[]
[]
[]
[]
[]
[]
[]
[]
[]
[]
[]
[]
[]
[]
[]
[]
[]
[]
[]
[]
[]
[]
[]
[]
[]
[]
[]
[]
[]
[]
[]
[]
[]
[]
[]
[]
[]
[]
[]
[]
[]
[]
[]
[]
[]
[]
[]
[]
[]
[]
[]
[]
[]
[]
[]
[]
[]
[]
[]
[]
[]
[]
[]
[]
[]
[]
[]
[]
[]
[]
[]
[]
[]
[]
[]
[]
[]
[]
[]
[]
[]
[]
[]
[]
[]
[]
[]
[]
[]
[]
[]
[]
[]
[]
[]
[]
[]
[]
[]
[]
[]
[]
[]
[]
[]
[]
[]
[]
[]
[]
[]
[null,"13.1"]
[]
[]
[]
[]
[]
[]
[]
[]
[]
[]
[]
[]
[]
[]
[]
[]
[]
[]
[]
[]
[]
[]
[]
[]
[]
[]
[]
[]
[]
[]
[]
[]
[]
[]
[]
[]
[]
[]
[]
[]
[]
[]
[]
[]
[]
[]
[]
[]
[]
[]
[]
[]
[]
[]
[]
[]
[]
[]
[]
[]
[]
[]
[]
[]
[]
[]
[]
[]
[]
[]
[]
[]
[]
[]
[]
[]
[]
[]
[]
[]
[]
[]
[]
[]
[]
[]
[]
[]
[]
[]
[]
[]
[]
[]
[]
[]
[]
[]
[]
[]
[]
[]
[]
[]
[]
[]
[]
[]
[]
[]
[]
[]
[]
[]
[]
[]
[]
[]
[]
[]
[]
[]
[]
[]
[]
[]
[]
[]
[]
[]
[]
[]
[]
[]
[]
[]
[]
[]
[]
[]
[]
[]
[]
[]
[]
[]
[]
[]
[]
[]
[]
[]
[]
[]
[]
[]
[]
[]
[]
[]
[]
[]
[]
[]
[]
[]
[]
[]
[]
[]
[]
[]
[]
[]
[]
[]
[]
[]
[]
[]
[]
[]
[]
[]
[]
[]
[]
[]
[]
[]
[]
[]
[]
[]
[]
[]
[]
[]
[]
[]
[]
[]
[]
[]
[]
[]
[]
[]
[]
[]
[]
[]
[]
[]
[]
[]
[]
[]
[]
[]
[]
[]
[]
[]
[]
[]
[]
[]
[]
[]
[]
[]
[]
[]
[]
[]
[]
[]
[]
[]
[]
[]
[]
[]
[]
[]
[]
[]
[]
[]
[]
[]
[]
[]
[]
[]
[]
[]
[]
[]
[]
[]
[]
[]
[]
[]
[]
[]
[]
[]
[]
[]
[]
[]
[]
[]
[]
[]
[]
[]
[]
[]
[]
[]
[]
[]
[]
[null,null,null,null,null,null,null,"COM003"]
[]
[]
[]
[]
[]
[]
[]
[]
[]
[]
[]
[null,null,null,null,null,null,null,"COM004"]
[]
[null,{"$f":"K526","v":0},32.25,"m2"]
[null,{"$f":"K527","v":0},3.23,"m3"]
[null,0,70.95,"kg"]
[null,0,3.23,"m3"]
[null,0,2,"un"]
[null,{"$f":"K531","v":0},7.4399999999999995,"m2",null,null,"COM003"]

{"sheet":"BDI","index":2,"n_rows":512,"n_cols":6,"rows_kept":512,"cut":false,"hidden":false,"merged":[[1,1,1,4],[23,1,23,4],[6,1,8,1],[6,3,8,3],[3,1,3,4]]}
[]
[null,"O valor do BDI é obtido pela fórmula e taxas abaixo"]
[]
[null,"FÓRMULA BDI "]
[]
[]
[null,"BDI ="," (1+AC+S+R+G)(1+DF)(1+L)  ",-1]
[null,null,"_______________________________________            "]
[null,null,"(1-I)"]
[]
[]
[null,"ONDE:"]
[null,"AC =  Taxa de Administração Central",null,null,0.03]
[null,"S = Taxa de Seguros",null,null,4.0000000000000001E-3]
[null,"G = Taxa de Garantias",null,null,4.0000000000000001E-3]
[null,"R = Taxa de Riscos",null,null,9.7000000000000003E-3]
[null,"DF = Taxa de Despesas Financeiras",null,null,5.8999999999999999E-3]
[null,"L = Taxa de Lucro / Remuneração",null,null,7.7399999999999997E-2]
[null,"I = Taxa de Incidência de Impostos",null,null,{"$f":"D22","v":5.6499999999999995E-2}]
[null,null,"I1: PIS e COFINS",3.6499999999999998E-2]
[null,null,"I2: ISSQN (conforme legislação municipal)",0.02]
[null,null,"∑",{"$f":"SUM(D20:D21)","v":5.6499999999999995E-2}]
[]
[null,"TEMOS ENTÃO ENTRANDO COM OS DADOS NA FÓRMULA"]
[]
[null,null,{"$f":"TRUNC(((((1+E13+E14+E15+E16)*(1+E17)*(1+E18))/(1-E19))-1),4)","v":0.2034}]
[]
[]
[]
[]
[]
[]
[]
[]
[]
[]
[]
[]
[]
[]
[]
[]
[]
[]
[]
[]
[]
[]
[]
[]
[]
[]
[]
[]
[]
[]
[]
[]
[]
[]
[]
[]
[]
[]
[]
[]
[]
[]
[]
[]
[]
[]
[]
[]
[]
[]
[]
[]
[]
[]
[]
[]
[]
[]
[]
[]
[]
[]
[]
[]
[]
[]
[]
[]
[]
[]
[]
[]
[]
[]
[]
[]
[]
[]
[]
[]
[]
[]
[]
[]
[]
[]
[]
[]
[]
[]
[]
[]
[]
[]
[]
[]
[]
[]
[]
[]
[]
[]
[]
[]
[]
[]
[]
[]
[]
[]
[]
[]
[]
[]
[]
[]
[]
[]
[]
[]
[]
[]
[]
[]
[]
[]
[]
[]
[]
[]
[]
[]
[]
[]
[]
[]
[]
[]
[]
[]
[]
[]
[]
[]
[]
[]
[]
[]
[]
[]
[]
[]
[]
[]
[]
[]
[]
[]
[]
[]
[]
[]
[]
[]
[]
[]
[]
[]
[]
[]
[]
[]
[]
[]
[]
[]
[]
[]
[]
[]
[]
[]
[]
[]
[]
[]
[]
[]
[]
[]
[]
[]
[]
[]
[]
[]
[]
[]
[]
[]
[]
[]
[]
[]
[]
[]
[]
[]
[]
[]
[]
[]
[]
[]
[]
[]
[]
[]
[]
[]
[]
[]
[]
[]
[]
[]
[]
[]
[]
[]
[]
[]
[]
[]
[]
[]
[]
[]
[]
[]
[]
[]
[]
[]
[]
[]
[]
[]
[]
[]
[]
[]
[]
[]
[]
[]
[]
[]
[]
[]
[]
[]
[]
[]
[]
[]
[]
[]
[]
[]
[]
[]
[]
[]
[]
[]
[]
[]
[]
[]
[]
[]
[]
[]
[]
[]
[]
[]
[]
[]
[]
[]
[]
[]
[]
[]
[]
[]
[]
[]
[]
[]
[]
[]
[]
[]
[]
[]
[]
[]
[]
[]
[]
[]
[]
[]
[]
[]
[]
[]
[]
[]
[]
[]
[]
[]
[]
[]
[]
[]
[]
[]
[]
[]
[]
[]
[]
[]
[]
[]
[]
[]
[]
[]
[]
[]
[]
[]
[]
[]
[]
[]
[]
[]
[]
[]
[]
[]
[]
[]
[]
[]
[]
[]
[]
[]
[]
[]
[]
[]
[]
[]
[]
[]
[]
[]
[]
[]
[]
[]
[]
[]
[]
[]
[]
[]
[]
[]
[]
[]
[]
[]
[]
[]
[]
[]
[]
[]
[]
[]
[]
[]
[]
[]
[]
[]
[]
[]
[]
[]
[]
[]
[]
[]
[]
[]
[]
[]
[]
[]
[]
[]
[]
[]
[]
[]
[]
[]
[]
[]
[]
[]
[]
[]
[]
[]
[]
[]
[]
[]
[]
[]
[]
[]
[]
[]
[]
[]
[]
[]
[]
[]
[]
[]
[]
[]
[]
[]
[]
[]
[]
[]
[]
[]
[]
[]
[null,null,null,null,null,"COM003"]
[]
[]
[]
[]
[]
[]
[]
[]
[]
[]
[]
[null,null,null,null,null,"COM004"]
[]
[32.25,"m2"]
[3.23,"m3"]
[70.95,"kg"]
[3.23,"m3"]
[2,"un"]
[7.4399999999999995,"m2",null,null,"COM003"]

{"sheet":"BDI (2)","index":3,"n_rows":501,"n_cols":6,"rows_kept":501,"cut":false,"hidden":false,"merged":[[23,1,23,4],[1,1,1,4],[3,1,3,4],[6,1,8,1],[6,3,8,3]]}
[]
[null,"O valor do BDI é obtido pela fórmula e taxas abaixo"]
[]
[null,"FÓRMULA BDI "]
[]
[]
[null,"BDI ="," (1+AC+S+R+G)(1+DF)(1+L)  ",-1]
[null,null,"_______________________________________            "]
[null,null,"(1-I)"]
[]
[]
[null,"ONDE:"]
[null,"AC =  Taxa de Administração Central",null,null,1.4999999999999999E-2]
[null,"S = Taxa de Seguros",null,null,1.5E-3]
[null,"G = Taxa de Garantias",null,null,1.5E-3]
[null,"R = Taxa de Riscos",null,null,5.5999999999999999E-3]
[null,"DF = Taxa de Despesas Financeiras",null,null,8.5000000000000006E-3]
[null,"L = Taxa de Lucro / Remuneração",null,null,3.5000000000000003E-2]
[null,"I = Taxa de Incidência de Impostos",null,null,{"$f":"D22","v":5.6499999999999995E-2}]
[null,null,"I1: PIS e COFINS",3.6499999999999998E-2]
[null,null,"I2: ISSQN (conforme legislação municipal)",0.02]
[null,null,"∑",{"$f":"SUM(D20:D21)","v":5.6499999999999995E-2}]
[]
[null,"TEMOS ENTÃO ENTRANDO COM OS DADOS NA FÓRMULA"]
[]
[null,null,{"$f":"TRUNC(((((1+E13+E14+E15+E16)*(1+E17)*(1+E18))/(1-E19))-1),4)","v":0.13239999999999999}]
[]
[]
[]
[]
[]
[]
[]
[]
[]
[]
[]
[]
[]
[]
[]
[]
[]
[]
[]
[]
[]
[]
[]
[]
[]
[]
[]
[]
[]
[]
[]
[]
[]
[]
[]
[]
[]
[]
[]
[]
[]
[]
[]
[]
[]
[]
[]
[]
[]
[]
[]
[]
[]
[]
[]
[]
[]
[]
[]
[]
[]
[]
[]
[]
[]
[]
[]
[]
[]
[]
[]
[]
[]
[]
[]
[]
[]
[]
[]
[]
[]
[]
[]
[]
[]
[]
[]
[]
[]
[]
[]
[]
[]
[]
[]
[]
[]
[]
[]
[]
[]
[]
[]
[]
[]
[]
[]
[]
[]
[]
[]
[]
[]
[]
[]
[]
[]
[]
[]
[]
[]
[]
[]
[]
[]
[]
[]
[]
[]
[]
[]
[]
[]
[]
[]
[]
[]
[]
[]
[]
[]
[]
[]
[]
[]
[]
[]
[]
[]
[]
[]
[]
[]
[]
[]
[]
[]
[]
[]
[]
[]
[]
[]
[]
[]
[]
[]
[]
[]
[]
[]
[]
[]
[]
[]
[]
[]
[]
[]
[]
[]
[]
[]
[]
[]
[]
[]
[]
[]
[]
[]
[]
[]
[]
[]
[]
[]
[]
[]
[]
[]
[]
[]
[]
[]
[]
[]
[]
[]
[]
[]
[]
[]
[]
[]
[]
[]
[]
[]
[]
[]
[]
[]
[]
[]
[]
[]
[]
[]
[]
[]
[]
[]
[]
[]
[]
[]
[]
[]
[]
[]
[]
[]
[]
[]
[]
[]
[]
[]
[]
[]
[]
[]
[]
[]
[]
[]
[]
[]
[]
[]
[]
[]
[]
[]
[]
[]
[]
[]
[]
[]
[]
[]
[]
[]
[]
[]
[]
[]
[]
[]
[]
[]
[]
[]
[]
[]
[]
[]
[]
[]
[]
[]
[]
[]
[]
[]
[]
[]
[]
[]
[]
[]
[]
[]
[]
[]
[]
[]
[]
[]
[]
[]
[]
[]
[]
[]
[]
[]
[]
[]
[]
[]
[]
[]
[]
[]
[]
[]
[]
[]
[]
[]
[]
[]
[]
[]
[]
[]
[]
[]
[]
[]
[]
[]
[]
[]
[]
[]
[]
[]
[]
[]
[]
[]
[]
[]
[]
[]
[]
[]
[]
[]
[]
[]
[]
[]
[]
[]
[]
[]
[]
[]
[]
[]
[]
[]
[]
[]
[]
[]
[]
[]
[]
[]
[]
[]
[]
[]
[]
[]
[]
[]
[]
[]
[]
[]
[]
[]
[]
[]
[]
[]
[]
[]
[]
[]
[]
[]
[]
[]
[]
[]
[]
[]
[]
[]
[]
[]
[]
[]
[]
[]
[]
[]
[]
[]
[]
[]
[]
[]
[]
[]
[]
[]
[]
[]
[]
[]
[]
[]
[]
[]
[]
[]
[]
[]
[]
[]
[]
[]
[]
[]
[]
[]
[null,null,null,null,null,"COM003"]
[]
[]
[]
[]
[]
[]
[]
[]
[]
[]
[]
[null,null,null,null,null,"COM004"]
[]
[32.25,"m2"]
[3.23,"m3"]
[70.95,"kg"]
[3.23,"m3"]
[2,"un"]
[7.4399999999999995,"m2",null,null,"COM003"]