{"text_format":"1","workbook":"xlsx","n_sheets":3,"sheets":["ORÇAMENTO","BDI 20,34%","BDI 13,24%"],"not_rendered":{"charts":0,"images":2,"macros":1,"external_links":0,"defined_names":9,"comments":0,"pivot_tables":0},"unopened":[],"bounds":{"document_bytes":16777216,"sheet_cells":100000,"rows_first":2000,"rows_last":500,"rows_between":2000,"halvings":0,"cell_chars":16384,"cell_head_chars":4096},"cells_cut":0,"cells_raw":0,"read":"whole","date_system":"1900"}

{"sheet":"ORÇAMENTO","index":0,"n_rows":289,"n_cols":11,"rows_kept":289,"cut":false,"hidden":false,"merged":[]}
[]
[null,"TODOS OS VALORES ESTÃO NA UNIDADE MONETÁRIA REAL"]
[null,"ITEM ","SERVIÇO ","UN","QUANTI.","VALOR S/ BDI","BDI","VALOR C/ BDI","VALOR TOTAL","CÓDIGO ","FONTE"]
[null,1,"SERVIÇOS INICIAIS",null,null,null,null,"∑ ",{"$f":"SUBTOTAL(9,I5:I6)","v":3316.81}]
[null,"1.1","Placa de Obra em Chapa de Aço Galvanizado","M2",2.88,383.81,{"$f":"'BDI 20,34%'!$C$26","v":0.2034},{"$f":"ROUND(((F5*G5)+F5),2)","v":461.88},{"$f":"IF(ISERR(ROUND((E5*H5),2)),\"\",ROUND((E5*H5),2))","v":1330.21},"74209/1","SINAPI"]
[null,"1.2","Locação de Obra Convencional, através de Gabarito de Madeira","M",33.450000000000003,49.35,{"$f":"'BDI 20,34%'!$C$26","v":0.2034},{"$f":"ROUND(((F6*G6)+F6),2)","v":59.39},1986.6,99059,"SINAPI"]
[null,2,"FUNDAÇÃO PROFUNDA",null,null,null,null,"∑ ",{"$f":"SUBTOTAL(9,I8:I11)","v":5408.8600000000006}]
[null,"2.1","Estaca Escavada Mecanicamente Ø25cm, Escavada com Perfuratriz Hidráulica","M",72,41.37,{"$f":"'BDI 20,34%'!$C$26","v":0.2034},{"$f":"ROUND(((F8*G8)+F8),2)","v":49.78},{"$f":"IF(ISERR(ROUND((E8*H8),2)),\"\",ROUND((E8*H8),2))","v":3584.16},90877,"SINAPI"]
[null,"2.2","Armaduras"]
[null,"2.2.1","Armadura CA-60 - 5.0mm (fornecimento, corte, dobra e colocação)","KG",28.64,12.97,{"$f":"'BDI 20,34%'!$C$26","v":0.2034},{"$f":"ROUND(((F10*G10)+F10),2)","v":15.61},{"$f":"IF(ISERR(ROUND((E10*H10),2)),\"\",ROUND((E10*H10),2))","v":447.07},92775,"SINAPI"]
[null,"2.2.2","Armadura CA-50  - 8.0mm (fornecimento, corte, dobra e colocação)","KG",113.76,10.06,{"$f":"'BDI 20,34%'!$C$26","v":0.2034},{"$f":"ROUND(((F11*G11)+F11),2)","v":12.11},1377.63,92777,"SINAPI"]
[null,3,"INFRAESTRUTURA",null,null,null,null,"∑ ",{"$f":"SUBTOTAL(9,I13:I24)","v":14330.07}]
[null,"3.1","Escavações Manuais","M3",6.94,65.66,{"$f":"'BDI 20,34%'!$C$26","v":0.2034},{"$f":"ROUND(((F13*G13)+F13),2)","v":79.02},{"$f":"IF(ISERR(ROUND((E13*H13),2)),\"\",ROUND((E13*H13),2))","v":548.4},93358,"SINAPI"]
[null,"3.2","Forma de Madeira para Concreto"]
[null,"3.2.1","Forma de Madeira para Concreto, (material e mão-de-obra para fabricação, montagem e desforma) - Sapatas e Pilares de Fundação","M2",18.649999999999999,136.68,{"$f":"'BDI 20,34%'!$C$26","v":0.2034},{"$f":"ROUND(((F15*G15)+F15),2)","v":164.48},3067.55,96535,"SINAPI"]
[null,"3.2.2","Forma de Madeira para Concreto, (material e mão-de-obra para fabricação, montagem e desforma) - Vigas Baldrame","M2",46.78,66.55,{"$f":"'BDI 20,34%'!$C$26","v":0.2034},{"$f":"ROUND(((F16*G16)+F16),2)","v":80.09},3746.61,96536,"SINAPI"]
[null,"3.3","Armaduras"]
[null,"3.3.1","Armadura CA-60  - 5.0mm (fornecimento, corte, dobra e colocação)","KG",56.6,12.83,{"$f":"'BDI 20,34%'!$C$26","v":0.2034},{"$f":"ROUND(((F18*G18)+F18),2)","v":15.44},873.9,96543,"SINAPI"]
[null,"3.3.2","Armadura CA-50  - 8.0mm (fornecimento, corte, dobra e colocação)","KG",74.900000000000006,10.06,{"$f":"'BDI 20,34%'!$C$26","v":0.2034},{"$f":"ROUND(((F19*G19)+F19),2)","v":12.11},907.04,96545,"SINAPI"]
[null,"3.3.3","Armadura CA-50  - 10.0mm (fornecimento, corte, dobra e colocação)","KG",186.6,8.14,{"$f":"'BDI 20,34%'!$C$26","v":0.2034},{"$f":"ROUND(((F20*G20)+F20),2)","v":9.8000000000000007},1828.68,96546,"SINAPI"]
[null,"3.4","Concreto"]
[null,"3.4.1","Concreto Feito no Local, FCK=25MPA - Sapatas e Pilares de Fundação","M3",2.57,328.57,{"$f":"'BDI 20,34%'!$C$26","v":0.2034},{"$f":"ROUND(((F22*G22)+F22),2)","v":395.4},1016.18,94965,"SINAPI"]
[null,"3.4.2","Concreto Feito no Local, FCK=25MPA - Vigas Baldrame","M3",2.79,328.57,{"$f":"'BDI 20,34%'!$C$26","v":0.2034},{"$f":"ROUND(((F23*G23)+F23),2)","v":395.4},1103.17,94965,"SINAPI"]
[null,"3.5","Impermeabilização com Manta Asfáltica e=3mm, incluindo Emulsão Asfáltica","M2",15.54,66.23,{"$f":"'BDI 20,34%'!$C$26","v":0.2034},{"$f":"ROUND(((F24*G24)+F24),2)","v":79.7},1238.54,98546,"SINAPI"]
[null,4,"SUPRAESTRUTURA",null,null,null,null,"∑ ",{"$f":"SUBTOTAL(9,I26:I36)","v":12806.449999999997}]
[null,"4.1","Forma de Madeira para Concreto"]
[null,"4.1.1","Forma de Madeira Serrada para Concreto, (material e mão-de-obra para fabricação, montagem e desforma) - Pilares","M2",31.68,106.56,{"$f":"'BDI 20,34%'!$C$26","v":0.2034},{"$f":"ROUND(((F27*G27)+F27),2)","v":128.22999999999999},{"$f":"IF(ISERR(ROUND((E27*H27),2)),\"\",ROUND((E27*H27),2))","v":4062.33},92412,"SINAPI"]
[null,"4.1.2","Forma de Madeira Serrada para Concreto, (material e mão-de-obra para fabricação, montagem e desforma) - Vigas","M2",28.58,111.88,{"$f":"'BDI 20,34%'!$C$26","v":0.2034},{"$f":"ROUND(((F28*G28)+F28),2)","v":134.63999999999999},{"$f":"IF(ISERR(ROUND((E28*H28),2)),\"\",ROUND((E28*H28),2))","v":3848.01},92448,"SINAPI"]
[null,"4.2","Armaduras"]
[null,"4.2.1","Armadura CA-60 - 5.0MM (fornecimento, corte, dobra e colocação)","KG",84.5,12.97,{"$f":"'BDI 20,34%'!$C$26","v":0.2034},{"$f":"ROUND(((F30*G30)+F30),2)","v":15.61},1319.05,92775,"SINAPI"]
[null,"4.2.2","Armadura CA-50 - 8.0MM (fornecimento, corte, dobra e colocação)","KG",78.3,10.06,{"$f":"'BDI 20,34%'!$C$26","v":0.2034},{"$f":"ROUND(((F31*G31)+F31),2)","v":12.11},948.21,92777,"SINAPI"]
[null,"4.2.3","Armadura CA-50 - 10.0MM (fornecimento, corte, dobra e colocação)","KG",131.80000000000001,8.08,{"$f":"'BDI 20,34%'!$C$26","v":0.2034},{"$f":"ROUND(((F32*G32)+F32),2)","v":9.7200000000000006},1281.0999999999999,92778,"SINAPI"]
[null,"4.2.4","Armadura CA-50 - 12.5MM (fornecimento, corte, dobra e colocação)","KG",15.9,7,{"$f":"'BDI 20,34%'!$C$26","v":0.2034},{"$f":"ROUND(((F33*G33)+F33),2)","v":8.42},133.88,92779,"SINAPI"]
[null,"4.3","Concreto"]
[null,"4.3.1","Concreto Feito no Local, FCK=25MPA - Pilares","M3",1.51,328.57,{"$f":"'BDI 20,34%'!$C$26","v":0.2034},{"$f":"ROUND(((F35*G35)+F35),2)","v":395.4},597.04999999999995,94965,"SINAPI"]
[null,"4.3.2","Concreto Feito no Local, FCK=25MPA - Vigas","M3",1.56,328.57,{"$f":"'BDI 20,34%'!$C$26","v":0.2034},{"$f":"ROUND(((F36*G36)+F36),2)","v":395.4},616.82000000000005,94965,"SINAPI"]
[null,5,"FECHAMENTOS",null,null,null,null,"∑ ",{"$f":"SUBTOTAL(9,I38:I39)","v":8796.5300000000007}]
[null,"5.1","Alvenaria de Tijolos Cerâmicos Furados, e=14cm (17cm acabada)","M2",85.289999999999992,74.45,{"$f":"'BDI 20,34%'!$C$26","v":0.2034},{"$f":"ROUND(((F38*G38)+F38),2)","v":89.59},{"$f":"IF(ISERR(ROUND((E38*H38),2)),\"\",ROUND((E38*H38),2))","v":7641.13},"CED012","COMPOSIÇÃO"]
[null,"5.2","Vergas e Contravergas, moldadas no local, h=20cm (incluso Fôrmas, Concreto e Armadura) ","M",19.18,50.06,{"$f":"'BDI 20,34%'!$C$26","v":0.2034},{"$f":"ROUND(((F39*G39)+F39),2)","v":60.24},{"$f":"IF(ISERR(ROUND((E39*H39),2)),\"\",ROUND((E39*H39),2))","v":1155.4000000000001},93188,"SINAPI"]
[null,6,"COBERTURA",null,null,null,null,"∑ ",{"$f":"SUBTOTAL(9,I41:I47)","v":12179.83}]
[null,"6.1","Estrutura de Madeira para Cobertura"]
[null,"6.1.1","Estrutura em Madeira Aparelhada para Telha Cerâmica, Composta por Ripas, Caibros e Terças","M2",70.78,73.48,{"$f":"'BDI 20,34%'!$C$26","v":0.2034},{"$f":"ROUND(((F42*G42)+F42),2)","v":88.43},{"$f":"IF(ISERR(ROUND((E42*H42),2)),\"\",ROUND((E42*H42),2))","v":6259.08},92539,"SINAPI"]
[null,"6.2","Telhamento Cerâmico"]
[null,"6.2.1","Telha Cerâmica tipo Portuguesa, Esmaltada (fornecimento e instalação) (inclui acessórios -  Meia Telha e Cunhas)","M2",70.78,46.71,{"$f":"'BDI 20,34%'!$C$26","v":0.2034},{"$f":"ROUND(((F44*G44)+F44),2)","v":56.21},{"$f":"IF(ISERR(ROUND((E44*H44),2)),\"\",ROUND((E44*H44),2))","v":3978.54},94195,"SINAPI"]
[null,"6.2.2","Cumeeiras para Telha Cerâmica (fornecimento e instalação)","M",9.8800000000000008,33.19,{"$f":"'BDI 20,34%'!$C$26","v":0.2034},{"$f":"ROUND(((F45*G45)+F45),2)","v":39.94},394.61,94219,"SINAPI"]
[null,"6.3","Calhas e Rufos"]
[null,"6.3.1","Calhas em Chapa em Aço Galvanizado, em Chapa 24 (e=0,65mm), desenvolvimento 50cm","M",19.760000000000002,65.08,{"$f":"'BDI 20,34%'!$C$26","v":0.2034},{"$f":"ROUND(((F47*G47)+F47),2)","v":78.319999999999993},{"$f":"IF(ISERR(ROUND((E47*H47),2)),\"\",ROUND((E47*H47),2))","v":1547.6},94228,"SINAPI"]
[null,7,"PISO",null,null,null,null,"∑ ",{"$f":"SUBTOTAL(9,I49:I55)","v":5647.7900000000009}]
[null,"7.1","Regularização e Apiloamento Manual","M2",50.08,8.3000000000000007,{"$f":"'BDI 20,34%'!$C$26","v":0.2034},{"$f":"ROUND(((F49*G49)+F49),2)","v":9.99},{"$f":"IF(ISERR(ROUND((E49*H49),2)),\"\",ROUND((E49*H49),2))","v":500.3},"CED003","COMPOSIÇÃO"]
[null,"7.2","Lastro de Brita Graduada para Piso de Concreto, e=20cm","M3",10.02,82.22,{"$f":"'BDI 20,34%'!$C$26","v":0.2034},98.94,991.38,88549,"SINAPI"]
[null,"7.3","Lona 200 Micras (fornecimento e instalação)","M2",50.08,5.2,{"$f":"'BDI 20,34%'!$C$26","v":0.2034},6.26,313.5,68053,"SINAPI"]
[null,"7.4","Tela Soldada Q-92 - Aço CA-60 4.2mm - Malha 15x15cm (fornecimento, corte e instalação)","M2",50.08,10.49,{"$f":"'BDI 20,34%'!$C$26","v":0.2034},12.62,{"$f":"IF(ISERR(ROUND((E52*H52),2)),\"\",ROUND((E52*H52),2))","v":632.01},85662,"SINAPI"]
[null,"7.5","Forma de Madeira Serrada para Concreto, (material e mão-de-obra para fabricação, montagem e desforma)","M2",2.73,66.55,{"$f":"'BDI 20,34%'!$C$26","v":0.2034},80.09,{"$f":"IF(ISERR(ROUND((E53*H53),2)),\"\",ROUND((E53*H53),2))","v":218.65},96536,"SINAPI"]
[null,"7.6","Piso em Concreto 25 Mpa , e=7cm","M3",3.51,335.32999999999993,{"$f":"'BDI 20,34%'!$C$26","v":0.2034},403.54,{"$f":"IF(ISERR(ROUND((E54*H54),2)),\"\",ROUND((E54*H54),2))","v":1416.43},"CED100","COMPOSIÇÃO"]
[null,"7.7","Contrapiso/Regularização em Argamassa, e=2cm","M2",50.08,26.14,{"$f":"'BDI 20,34%'!$C$26","v":0.2034},31.46,{"$f":"IF(ISERR(ROUND((E55*H55),2)),\"\",ROUND((E55*H55),2))","v":1575.52},87620,"SINAPI"]
[null,8,"INSTALAÇÕES ELÉTRICAS",null,null,null,null,"∑ ",{"$f":"SUBTOTAL(9,I57:I75)","v":10388.61}]
[null,"8.1","Ramal  "]
[null,"8.1.1","Caixa de Passagem Padrão CELESC, 65x41x70cm (fornecimento e instalação)","UN ",3,93.940000000000026,{"$f":"'BDI 20,34%'!$C$26","v":0.2034},{"$f":"ROUND(((F58*G58)+F58),2)","v":113.05},{"$f":"IF(ISERR(ROUND((E58*H58),2)),\"\",ROUND((E58*H58),2))","v":339.15},"CEL010","COMPOSIÇÃO"]
[null,"8.1.2","Eletroduto PEAD 40mm - 1 1/2\" (fornecimento, escavação, assentamento e reaterro)","M",65,25.41,{"$f":"'BDI 20,34%'!$C$26","v":0.2034},30.58,{"$f":"IF(ISERR(ROUND((E59*H59),2)),\"\",ROUND((E59*H59),2))","v":1987.7},"CEL006","COMPOSIÇÃO"]
[null,"8.1.3","Caixa de Passagem 30x30x40, Fundo de Brita e Tampa (fornecimento e instalação)","UN",1,162.96,{"$f":"'BDI 20,34%'!$C$26","v":0.2034},196.11,{"$f":"IF(ISERR(ROUND((E60*H60),2)),\"\",ROUND((E60*H60),2))","v":196.11},83446,"SINAPI"]
[null,"8.1.4","Cabo de Cobre Isolado 10mm2 - 1KV","M",370,6.33,{"$f":"'BDI 20,34%'!$C$26","v":0.2034},7.62,{"$f":"IF(ISERR(ROUND((E61*H61),2)),\"\",ROUND((E61*H61),2))","v":2819.4},92980,"SINAPI"]
[null,"8.1.5","Haste de Aterramento em Aço de 2,4m e Ø5/8\"","UN",1,51.09,{"$f":"'BDI 20,34%'!$C$26","v":0.2034},61.48,{"$f":"IF(ISERR(ROUND((E62*H62),2)),\"\",ROUND((E62*H62),2))","v":61.48},96985,"SINAPI"]
[null,"8.1.6","Tampa de Ferro Fundido, 65x41cm (fornecimento e instalação)  ","UN",3,224.86,{"$f":"'BDI 20,34%'!$C$26","v":0.2034},270.60000000000002,{"$f":"IF(ISERR(ROUND((E63*H63),2)),\"\",ROUND((E63*H63),2))","v":811.8},84798,"SINAPI"]
[null,"8.2","Quadro de Distribuição"]
[null,"8.2.1","Quadro de Distribuição de Energia para 18 Disjuntores Monopolares, com Barramento Trifasico e Neutro (Fornecimento e Instalação)","UN",1,450.27,{"$f":"'BDI 20,34%'!$C$26","v":0.2034},{"$f":"ROUND(((F65*G65)+F65),2)","v":541.85},{"$f":"IF(ISERR(ROUND((E65*H65),2)),\"\",ROUND((E65*H65),2))","v":541.85},"74131/4","SINAPI"]
[null,"8.2.2","Disjuntor Monopolar 10A - Din (Fornecimento e Instalação)","UN",7,11,{"$f":"'BDI 20,34%'!$C$26","v":0.2034},{"$f":"ROUND(((F66*G66)+F66),2)","v":13.24},{"$f":"IF(ISERR(ROUND((E66*H66),2)),\"\",ROUND((E66*H66),2))","v":92.68},93653,"SINAPI"]
[null,"8.2.3","Disjuntor Monopolar 16A - Din (Fornecimento e Instalação)","UN",1,11.68,{"$f":"'BDI 20,34%'!$C$26","v":0.2034},{"$f":"ROUND(((F67*G67)+F67),2)","v":14.06},{"$f":"IF(ISERR(ROUND((E67*H67),2)),\"\",ROUND((E67*H67),2))","v":14.06},93654,"SINAPI"]
[null,"8.2.4","Disjuntor Monopolar 40A - Din (Fornecimento e Instalação)","UN",1,20.74,{"$f":"'BDI 20,34%'!$C$26","v":0.2034},{"$f":"ROUND(((F68*G68)+F68),2)","v":24.96},{"$f":"IF(ISERR(ROUND((E68*H68),2)),\"\",ROUND((E68*H68),2))","v":24.96},93658,"SINAPI"]
[null,"8.2.5","Disjuntor Diferencial Residual (DR) 25A (fornecimento e instalação)","UN",1,142.07,{"$f":"'BDI 20,34%'!$C$26","v":0.2034},{"$f":"ROUND(((F69*G69)+F69),2)","v":170.97},{"$f":"IF(ISERR(ROUND((E69*H69),2)),\"\",ROUND((E69*H69),2))","v":170.97},"CEL013","COMPOSIÇÃO"]
[null,"8.3","Iluminação"]
[null,"8.3.1","Ponto de Iluminação (Caixas, Eletroduto, Cabos, Interruptor) (fornecimento e instalação)","UN",9,135.08000000000001,{"$f":"'BDI 20,34%'!$C$26","v":0.2034},{"$f":"ROUND(((F71*G71)+F71),2)","v":162.56},{"$f":"IF(ISERR(ROUND((E71*H71),2)),\"\",ROUND((E71*H71),2))","v":1463.04},93128,"SINAPI"]
[null,"8.3.2","Luminária Calha, com 2 Lâmpadas de led (fornecimento e instalação)","UN",5,65.47,{"$f":"'BDI 20,34%'!$C$26","v":0.2034},{"$f":"ROUND(((F72*G72)+F72),2)","v":78.790000000000006},{"$f":"IF(ISERR(ROUND((E72*H72),2)),\"\",ROUND((E72*H72),2))","v":393.95},97585,"SINAPI"]
[null,"8.3.3","Luminária Plafon, com Lâmpada LED (fornecimento e instalação)","UN",4,105.65,{"$f":"'BDI 20,34%'!$C$26","v":0.2034},{"$f":"ROUND(((F73*G73)+F73),2)","v":127.14},{"$f":"IF(ISERR(ROUND((E73*H73),2)),\"\",ROUND((E73*H73),2))","v":508.56},97592,"SINAPI"]
[null,"8.4","Tomadas"]
[null,"8.4.1","Ponto de Tomada 2P+T - 10A (Caixa, Eletroduto, Cabos e Tomada com Placa) (fornecimento e instalação)","UN",5,160.03,{"$f":"'BDI 20,34%'!$C$26","v":0.2034},{"$f":"ROUND(((F75*G75)+F75),2)","v":192.58},{"$f":"IF(ISERR(ROUND((E75*H75),2)),\"\",ROUND((E75*H75),2))","v":962.9},93141,"SINAPI"]
[null,9,"REDE HIDRÁULICA",null,null,null,null,"∑ ",{"$f":"SUBTOTAL(9,I77:I131)","v":3156.670000000001}]
[null,"9.1","Alimentação"]
[null,"9.1.1","Caixa d'Água"]
[null,"9.1.1.1","500 Litros - Polietileno","UN",3,168.68,{"$f":"'BDI 20,34%'!$C$26","v":0.2034},{"$f":"ROUND(((F79*G79)+F79),2)","v":202.99},{"$f":"IF(ISERR(ROUND((E79*H79),2)),\"\",ROUND((E79*H79),2))","v":608.97},"CHD200","COMPOSIÇÃO"]
[null,"9.1.2","Torneira tipo Bóia"]
[null,"9.1.2.1","3/4\"","UN",1,21.13,{"$f":"'BDI 20,34%'!$C$26","v":0.2034},{"$f":"ROUND(((F81*G81)+F81),2)","v":25.43},{"$f":"IF(ISERR(ROUND((E81*H81),2)),\"\",ROUND((E81*H81),2))","v":25.43},94796,"SINAPI"]
[null,"9.1.3","Válvula de Esfera - PVC Soldável"]
[null,"9.1.3.1","3/4\"","UN",1,19.489999999999998,{"$f":"'BDI 20,34%'!$C$26","v":0.2034},{"$f":"ROUND(((F83*G83)+F83),2)","v":23.45},{"$f":"IF(ISERR(ROUND((E83*H83),2)),\"\",ROUND((E83*H83),2))","v":23.45},94489,"SINAPI"]
[null,"9.1.4","Joelho 90° Soldável"]
[null,"9.1.4.1","25mm","UN",6,4.91,{"$f":"'BDI 20,34%'!$C$26","v":0.2034},{"$f":"ROUND(((F85*G85)+F85),2)","v":5.91},{"$f":"IF(ISERR(ROUND((E85*H85),2)),\"\",ROUND((E85*H85),2))","v":35.46},89408,"SINAPI"]
[null,"9.1.5","Tubos PVC Soldável"]
[null,"9.1.5.1","25mm","M",12.09,7.2,{"$f":"'BDI 20,34%'!$C$26","v":0.2034},{"$f":"ROUND(((F87*G87)+F87),2)","v":8.66},{"$f":"IF(ISERR(ROUND((E87*H87),2)),\"\",ROUND((E87*H87),2))","v":104.7},89402,"SINAPI"]
[null,"9.2","Metais - Registros"]
[null,"9.2.1","Registro de Gaveta com Canopla Cromada"]
[null,"9.2.1.1","3/4\"","UN",6,62.59,{"$f":"'BDI 20,34%'!$C$26","v":0.2034},{"$f":"ROUND(((F90*G90)+F90),2)","v":75.319999999999993},{"$f":"IF(ISERR(ROUND((E90*H90),2)),\"\",ROUND((E90*H90),2))","v":451.92},89987,"SINAPI"]
[null,"9.2.1.2","1.1/2\"","UN",1,123.86,{"$f":"'BDI 20,34%'!$C$26","v":0.2034},{"$f":"ROUND(((F91*G91)+F91),2)","v":149.05000000000001},149.05000000000001,94794,"SINAPI"]
[null,"9.2.2","Válvula de Descarga Baixa Pressão, com Acabamento em Metal Cromado"]
[null,"9.2.2.1","1.1/2\"","UN",1,185.16,{"$f":"'BDI 20,34%'!$C$26","v":0.2034},{"$f":"ROUND(((F93*G93)+F93),2)","v":222.82},{"$f":"IF(ISERR(ROUND((E93*H93),2)),\"\",ROUND((E93*H93),2))","v":222.82},99635,"SINAPI"]
[null,"9.3","Água Fria"]
[null,"9.3.1","Válvula de Esfera - PVC Soldável"]
[null,"9.3.1.1","1\"","UN",7,33,{"$f":"'BDI 20,34%'!$C$26","v":0.2034},{"$f":"ROUND(((F96*G96)+F96),2)","v":39.71},{"$f":"IF(ISERR(ROUND((E96*H96),2)),\"\",ROUND((E96*H96),2))","v":277.97000000000003},94490,"SINAPI"]
[null,"9.3.1.2","1.1/2\"","UN",1,46.64,{"$f":"'BDI 20,34%'!$C$26","v":0.2034},{"$f":"ROUND(((F97*G97)+F97),2)","v":56.13},56.13,94492,"SINAPI"]
[null,"9.3.2","Adaptador Soldável com Flange para Caixa d'Água"]
[null,"9.3.2.1","32mm - 1\"","UN",8,16.27,{"$f":"'BDI 20,34%'!$C$26","v":0.2034},{"$f":"ROUND(((F99*G99)+F99),2)","v":19.579999999999998},{"$f":"IF(ISERR(ROUND((E99*H99),2)),\"\",ROUND((E99*H99),2))","v":156.63999999999999},94704,"SINAPI"]
[null,"9.3.2.2","50mm - 1.1/2\"","UN",1,28.52,{"$f":"'BDI 20,34%'!$C$26","v":0.2034},{"$f":"ROUND(((F100*G100)+F100),2)","v":34.32},34.32,94706,"SINAPI"]
[null,"9.3.3","Adaptador Soldável Curto com Bolsa e Rosca para Registro"]
[null,"9.3.3.1","25mm - 3/4\"","UN",12,3.79,{"$f":"'BDI 20,34%'!$C$26","v":0.2034},{"$f":"ROUND(((F102*G102)+F102),2)","v":4.5599999999999996},{"$f":"IF(ISERR(ROUND((E102*H102),2)),\"\",ROUND((E102*H102),2))","v":54.72},89429,"SINAPI"]
[null,"9.3.3.2","50mm - 1.1/2\"","UN",2,7.8,{"$f":"'BDI 20,34%'!$C$26","v":0.2034},{"$f":"ROUND(((F103*G103)+F103),2)","v":9.39},18.78,89596,"SINAPI"]
[null,"9.3.4","Bucha de Redução Soldável Curta"]
[null,"9.3.4.1","32mm - 25mm","UN",3,5.03,{"$f":"'BDI 20,34%'!$C$26","v":0.2034},{"$f":"ROUND(((F105*G105)+F105),2)","v":6.05},{"$f":"IF(ISERR(ROUND((E105*H105),2)),\"\",ROUND((E105*H105),2))","v":18.149999999999999},"CHD007","COMPOSIÇÃO"]
[null,"9.3.5","Joelho 45° Soldável"]
[null,"9.3.5.1","25mm","UN",1,5.41,{"$f":"'BDI 20,34%'!$C$26","v":0.2034},{"$f":"ROUND(((F107*G107)+F107),2)","v":6.51},{"$f":"IF(ISERR(ROUND((E107*H107),2)),\"\",ROUND((E107*H107),2))","v":6.51},89409,"SINAPI"]
[null,"9.3.5.2","32mm","UN",1,8.19,{"$f":"'BDI 20,34%'!$C$26","v":0.2034},{"$f":"ROUND(((F108*G108)+F108),2)","v":9.86},9.86,89414,"SINAPI"]
[null,"9.3.5.3","50mm","UN",1,11.2,{"$f":"'BDI 20,34%'!$C$26","v":0.2034},{"$f":"ROUND(((F109*G109)+F109),2)","v":13.48},13.48,89502,"SINAPI"]
[null,"9.3.6","Joelho 90° Soldável"]
[null,"9.3.6.1","25mm","UN",15,4.91,{"$f":"'BDI 20,34%'!$C$26","v":0.2034},{"$f":"ROUND(((F111*G111)+F111),2)","v":5.91},{"$f":"IF(ISERR(ROUND((E111*H111),2)),\"\",ROUND((E111*H111),2))","v":88.65},89408,"SINAPI"]
[null,"9.3.6.2","32mm","UN",1,6.79,{"$f":"'BDI 20,34%'!$C$26","v":0.2034},{"$f":"ROUND(((F112*G112)+F112),2)","v":8.17},8.17,89413,"SINAPI"]
[null,"9.3.6.3","50mm","UN",3,10.039999999999999,{"$f":"'BDI 20,34%'!$C$26","v":0.2034},{"$f":"ROUND(((F113*G113)+F113),2)","v":12.08},36.24,89501,"SINAPI"]
[null,"9.3.7","Tê 90° Soldável"]
[null,"9.3.7.1","25mm","UN",2,5.2,{"$f":"'BDI 20,34%'!$C$26","v":0.2034},{"$f":"ROUND(((F115*G115)+F115),2)","v":6.26},{"$f":"IF(ISERR(ROUND((E115*H115),2)),\"\",ROUND((E115*H115),2))","v":12.52},89617,"SINAPI"]
[null,"9.3.7.2","32mm","UN",1,8.2200000000000006,{"$f":"'BDI 20,34%'!$C$26","v":0.2034},{"$f":"ROUND(((F116*G116)+F116),2)","v":9.89},9.89,89620,"SINAPI"]
[null,"9.3.8","Joelho de Redução 90° Soldável"]
[null,"9.3.8.1","32mm - 25mm","UN",3,7.01,{"$f":"'BDI 20,34%'!$C$26","v":0.2034},{"$f":"ROUND(((F118*G118)+F118),2)","v":8.44},{"$f":"IF(ISERR(ROUND((E118*H118),2)),\"\",ROUND((E118*H118),2))","v":25.32},"CHD013","COMPOSIÇÃO"]
[null,"9.3.9","Tê de Redução 90° Soldável"]
[null,"9.3.9.1","50mm - 25mm","UN",2,14.64,{"$f":"'BDI 20,34%'!$C$26","v":0.2034},{"$f":"ROUND(((F120*G120)+F120),2)","v":17.62},{"$f":"IF(ISERR(ROUND((E120*H120),2)),\"\",ROUND((E120*H120),2))","v":35.24},89627,"SINAPI"]
[null,"9.3.9.2","32mm - 25mm","UN",1,9.5299999999999994,{"$f":"'BDI 20,34%'!$C$26","v":0.2034},{"$f":"ROUND(((F121*G121)+F121),2)","v":11.47},11.47,89622,"SINAPI"]
[null,"9.3.10","Tubos PVC Soldável"]
[null,"9.3.10.1","25mm","M",27.4,7.2,{"$f":"'BDI 20,34%'!$C$26","v":0.2034},{"$f":"ROUND(((F123*G123)+F123),2)","v":8.66},{"$f":"IF(ISERR(ROUND((E123*H123),2)),\"\",ROUND((E123*H123),2))","v":237.28},89402,"SINAPI"]
[null,"9.3.10.2","32mm","M",8.9,11.27,{"$f":"'BDI 20,34%'!$C$26","v":0.2034},{"$f":"ROUND(((F124*G124)+F124),2)","v":13.56},120.68,89403,"SINAPI"]
[null,"9.3.10.3","50mm","M",4.9000000000000004,10.82,{"$f":"'BDI 20,34%'!$C$26","v":0.2034},{"$f":"ROUND(((F125*G125)+F125),2)","v":13.02},63.8,89449,"SINAPI"]
[null,"9.3.11","Joelho 90° Soldável com Bucha de Latão"]
[null,"9.3.11.1","25mm - 1/2\"","UN",7,10.9,{"$f":"'BDI 20,34%'!$C$26","v":0.2034},{"$f":"ROUND(((F127*G127)+F127),2)","v":13.12},{"$f":"IF(ISERR(ROUND((E127*H127),2)),\"\",ROUND((E127*H127),2))","v":91.84},90373,"SINAPI"]
[null,"9.3.11.2","25mm - 3/4\"","UN",3,11.64,{"$f":"'BDI 20,34%'!$C$26","v":0.2034},{"$f":"ROUND(((F128*G128)+F128),2)","v":14.01},42.03,89366,"SINAPI"]
[null,"9.3.12","Tê 90° Soldável com Bucha de Latão"]
[null,"9.3.12.1","25mm - 1/2\"","UN",6,11.81,{"$f":"'BDI 20,34%'!$C$26","v":0.2034},{"$f":"ROUND(((F130*G130)+F130),2)","v":14.21},{"$f":"IF(ISERR(ROUND((E130*H130),2)),\"\",ROUND((E130*H130),2))","v":85.26},89441,"SINAPI"]
[null,"9.3.12.2","25mm - 3/4\"","UN",1,16.55,{"$f":"'BDI 20,34%'!$C$26","v":0.2034},{"$f":"ROUND(((F131*G131)+F131),2)","v":19.920000000000002},19.920000000000002,90374,"SINAPI"]
[null,10,"REDE SANITÁRIA",null,null,null,null,"∑ ",{"$f":"SUBTOTAL(9,I133:I200)","v":10454.519999999999}]
[null,"10.1","Esgoto"]
[null,"10.1.1","Caixa de inspeção"]
[null,"10.1.1.1","PVC com Tampa, Ø30cm ","UN",1,207.75,{"$f":"'BDI 20,34%'!$C$26","v":0.2034},{"$f":"ROUND(((F135*G135)+F135),2)","v":250.01},{"$f":"IF(ISERR(ROUND((E135*H135),2)),\"\",ROUND((E135*H135),2))","v":250.01},"74166/1","SINAPI"]
[null,"10.1.2","Caixa sifonada"]
[null,"10.1.2.1","150x150x50","UN",4,23.86,{"$f":"'BDI 20,34%'!$C$26","v":0.2034},{"$f":"ROUND(((F137*G137)+F137),2)","v":28.71},{"$f":"IF(ISERR(ROUND((E137*H137),2)),\"\",ROUND((E137*H137),2))","v":114.84},89707,"SINAPI"]
[null,"10.1.3","Curva  PVC 90° curta"]
[null,"10.1.3.1","40mm","UN",11,7.7,{"$f":"'BDI 20,34%'!$C$26","v":0.2034},{"$f":"ROUND(((F139*G139)+F139),2)","v":9.27},{"$f":"IF(ISERR(ROUND((E139*H139),2)),\"\",ROUND((E139*H139),2))","v":101.97},89728,"SINAPI"]
[null,"10.1.4","Joelho PVC 45°"]
[null,"10.1.4.1","40mm","UN",6,5.87,{"$f":"'BDI 20,34%'!$C$26","v":0.2034},{"$f":"ROUND(((F141*G141)+F141),2)","v":7.06},{"$f":"IF(ISERR(ROUND((E141*H141),2)),\"\",ROUND((E141*H141),2))","v":42.36},89726,"SINAPI"]
[null,"10.1.4.2","50mm","UN",3,8.7200000000000006,{"$f":"'BDI 20,34%'!$C$26","v":0.2034},{"$f":"ROUND(((F142*G142)+F142),2)","v":10.49},31.47,89732,"SINAPI"]
[null,"10.1.4.3","75mm","UN",1,14.29,{"$f":"'BDI 20,34%'!$C$26","v":0.2034},{"$f":"ROUND(((F143*G143)+F143),2)","v":17.2},17.2,89739,"SINAPI"]
[null,"10.1.4.4","100mm","UN",6,17.989999999999998,{"$f":"'BDI 20,34%'!$C$26","v":0.2034},{"$f":"ROUND(((F144*G144)+F144),2)","v":21.65},129.9,89746,"SINAPI"]
[null,"10.1.5","Joelho PVC 90°"]
[null,"10.1.5.1","40mm","UN",11,7.34,{"$f":"'BDI 20,34%'!$C$26","v":0.2034},{"$f":"ROUND(((F146*G146)+F146),2)","v":8.83},{"$f":"IF(ISERR(ROUND((E146*H146),2)),\"\",ROUND((E146*H146),2))","v":97.13},89724,"SINAPI"]
[null,"10.1.5.2","50mm","UN",3,8.3800000000000008,{"$f":"'BDI 20,34%'!$C$26","v":0.2034},{"$f":"ROUND(((F147*G147)+F147),2)","v":10.08},30.24,89731,"SINAPI"]
[null,"10.1.5.3","100mm","UN",4,18.02,{"$f":"'BDI 20,34%'!$C$26","v":0.2034},{"$f":"ROUND(((F148*G148)+F148),2)","v":21.69},86.76,89744,"SINAPI"]
[null,"10.1.6","Junção Simples PVC"]
[null,"10.1.6.1","40mm - 40mm","UN",4,9.26,{"$f":"'BDI 20,34%'!$C$26","v":0.2034},{"$f":"ROUND(((F150*G150)+F150),2)","v":11.14},{"$f":"IF(ISERR(ROUND((E150*H150),2)),\"\",ROUND((E150*H150),2))","v":44.56},89783,"SINAPI"]
[null,"10.1.6.2","75mm - 50mm","UN",1,19.77,{"$f":"'BDI 20,34%'!$C$26","v":0.2034},{"$f":"ROUND(((F151*G151)+F151),2)","v":23.79},23.79,"CHD018","COMPOSIÇÃO"]
[null,"10.1.6.3","100mm - 50mm","UN",2,22.06,{"$f":"'BDI 20,34%'!$C$26","v":0.2034},{"$f":"ROUND(((F152*G152)+F152),2)","v":26.55},53.1,"CHD019","COMPOSIÇÃO"]
[null,"10.1.6.4","100mm - 75mm","UN",1,44.46,{"$f":"'BDI 20,34%'!$C$26","v":0.2034},{"$f":"ROUND(((F153*G153)+F153),2)","v":53.5},53.5,89569,"SINAPI"]
[null,"10.1.6.5","100mm - 100mm","UN",2,31.97,{"$f":"'BDI 20,34%'!$C$26","v":0.2034},{"$f":"ROUND(((F154*G154)+F154),2)","v":38.47},76.94,89797,"SINAPI"]
[null,"10.1.7","Redução Excêntrica PVC"]
[null,"10.1.7.1","75mm x 50mm","UN",1,9.7799999999999994,{"$f":"'BDI 20,34%'!$C$26","v":0.2034},{"$f":"ROUND(((F156*G156)+F156),2)","v":11.77},{"$f":"IF(ISERR(ROUND((E156*H156),2)),\"\",ROUND((E156*H156),2))","v":11.77},89549,"SINAPI"]
[null,"10.1.8","Tê Sanitário PVC"]
[null,"10.1.8.1","50mm - 50mm","UN",2,14.27,{"$f":"'BDI 20,34%'!$C$26","v":0.2034},{"$f":"ROUND(((F158*G158)+F158),2)","v":17.170000000000002},{"$f":"IF(ISERR(ROUND((E158*H158),2)),\"\",ROUND((E158*H158),2))","v":34.340000000000003},89784,"SINAPI"]
[null,"10.1.8.2","75mm - 50mm","UN",1,34.290000000000006,{"$f":"'BDI 20,34%'!$C$26","v":0.2034},{"$f":"ROUND(((F159*G159)+F159),2)","v":41.26},41.26,"CHD020","COMPOSIÇÃO"]
[null,"10.1.9","Tubo Rígido com Ponta Lisa"]
[null,"10.1.9.1","40mm","M",19.489999999999998,15.42,{"$f":"'BDI 20,34%'!$C$26","v":0.2034},{"$f":"ROUND(((F161*G161)+F161),2)","v":18.559999999999999},{"$f":"IF(ISERR(ROUND((E161*H161),2)),\"\",ROUND((E161*H161),2))","v":361.73},89711,"SINAPI"]
[null,"10.1.9.2","50mm - 2\"","M",4.5,22.21,{"$f":"'BDI 20,34%'!$C$26","v":0.2034},{"$f":"ROUND(((F162*G162)+F162),2)","v":26.73},120.29,89712,"SINAPI"]
[null,"10.1.9.3","75mm - 3\"","M",1.28,33.729999999999997,{"$f":"'BDI 20,34%'!$C$26","v":0.2034},{"$f":"ROUND(((F163*G163)+F163),2)","v":40.590000000000003},51.96,89713,"SINAPI"]
[null,"10.1.9.4","100mm - 4\"","M",8.7100000000000009,43.71,{"$f":"'BDI 20,34%'!$C$26","v":0.2034},{"$f":"ROUND(((F164*G164)+F164),2)","v":52.6},458.15,89714,"SINAPI"]
[null,"10.2","Ventilação"]
[null,"10.2.1","Joelho PVC 90°"]
[null,"10.2.1.1","50mm","UN",1,8.3800000000000008,{"$f":"'BDI 20,34%'!$C$26","v":0.2034},{"$f":"ROUND(((F167*G167)+F167),2)","v":10.08},{"$f":"IF(ISERR(ROUND((E167*H167),2)),\"\",ROUND((E167*H167),2))","v":10.08},89731,"SINAPI"]
[null,"10.2.2","Tê Sanitário PVC"]
[null,"10.2.2.1","50mm - 50mm","UN",1,14.27,{"$f":"'BDI 20,34%'!$C$26","v":0.2034},{"$f":"ROUND(((F169*G169)+F169),2)","v":17.170000000000002},{"$f":"IF(ISERR(ROUND((E169*H169),2)),\"\",ROUND((E169*H169),2))","v":17.170000000000002},89784,"SINAPI"]
[null,"10.2.3","Tubo Rígido com Ponta Lisa"]
[null,"10.2.3.1","50mm - 2\"","M",7.48,22.21,{"$f":"'BDI 20,34%'!$C$26","v":0.2034},{"$f":"ROUND(((F171*G171)+F171),2)","v":26.73},{"$f":"IF(ISERR(ROUND((E171*H171),2)),\"\",ROUND((E171*H171),2))","v":199.94},89712,"SINAPI"]
[null,"10.3","Sistema de Tratamento"]
[null,"10.3.1","Fossa Séptica Pré-Moldada, Ø1,50m, h=2,00m"]
[null,"10.3.1.1","Tubo de Concreto Ø1,50m, com Junta Rígida de Argamassa (incluso escavação, carga e transporte)","M",2,636.82000000000005,{"$f":"'BDI 20,34%'!$C$26","v":0.2034},{"$f":"ROUND(((F174*G174)+F174),2)","v":766.35},{"$f":"IF(ISERR(ROUND((E174*H174),2)),\"\",ROUND((E174*H174),2))","v":1532.7},92818,"SINAPI"]
[null,"10.3.1.2","Tampa Pré-Moldada Ø1,55m","M3",0.09,2190.42,{"$f":"'BDI 20,34%'!$C$26","v":0.2034},2635.95,{"$f":"IF(ISERR(ROUND((E175*H175),2)),\"\",ROUND((E175*H175),2))","v":237.24},97739,"SINAPI"]
[null,"10.3.1.3","Concreto Usinado (fornecimento, lançamento, adensamento e bombeado) FCK=25MPA","M3",0.2,379.03,{"$f":"'BDI 20,34%'!$C$26","v":0.2034},456.12,91.22,92722,"SINAPI"]
[null,"10.3.1.4","Aço CA-50 - 10.0MM (fornecimento, corte, colocação)","KG",31.45,7.09,{"$f":"'BDI 20,34%'!$C$26","v":0.2034},8.5299999999999994,268.27,92787,"SINAPI"]
[null,"10.3.1.5","Impermeabilização com Argamassa Polimérica Bicomponente Semiflexível, 03 Demãos Cruzadas","M2",10.25,27.52,{"$f":"'BDI 20,34%'!$C$26","v":0.2034},33.119999999999997,{"$f":"IF(ISERR(ROUND((E178*H178),2)),\"\",ROUND((E178*H178),2))","v":339.48},98555,"SINAPI"]
[null,"10.3.1.6","Tubo PVC, 100mm","M",1.3,43.71,{"$f":"'BDI 20,34%'!$C$26","v":0.2034},52.6,{"$f":"IF(ISERR(ROUND((E179*H179),2)),\"\",ROUND((E179*H179),2))","v":68.38},89714,"SINAPI"]
[null,"10.3.1.7","Tê PVC, 100mm x 100mm","UN",2,28.79,{"$f":"'BDI 20,34%'!$C$26","v":0.2034},34.65,{"$f":"IF(ISERR(ROUND((E180*H180),2)),\"\",ROUND((E180*H180),2))","v":69.3},89796,"SINAPI"]
[null,"10.3.1.8","Tubo PVC, 150mm","M",2,39.42,{"$f":"'BDI 20,34%'!$C$26","v":0.2034},47.44,{"$f":"IF(ISERR(ROUND((E181*H181),2)),\"\",ROUND((E181*H181),2))","v":94.88},89849,"SINAPI"]
[null,"10.3.2","Filtro Anaeróbio Pré-Moldado, Ø1,50m, h=1,80m"]
[null,"10.3.2.1","Tubo de Concreto Ø1,50m, com Junta Rígida de Argamassa (incluso escavação, carga e transporte)","M",1.8,636.82000000000005,{"$f":"'BDI 20,34%'!$C$26","v":0.2034},{"$f":"ROUND(((F183*G183)+F183),2)","v":766.35},{"$f":"IF(ISERR(ROUND((E183*H183),2)),\"\",ROUND((E183*H183),2))","v":1379.43},92818,"SINAPI"]
[null,"10.3.2.2","Tampa Pré-Moldada Ø1,55m","M3",0.09,2190.42,{"$f":"'BDI 20,34%'!$C$26","v":0.2034},2635.95,{"$f":"IF(ISERR(ROUND((E184*H184),2)),\"\",ROUND((E184*H184),2))","v":237.24},97739,"SINAPI"]
[null,"10.3.2.3","Fundo Falso Pré-Moldada Ø1,20m","M3",0.09,2190.42,{"$f":"'BDI 20,34%'!$C$26","v":0.2034},2635.95,{"$f":"IF(ISERR(ROUND((E185*H185),2)),\"\",ROUND((E185*H185),2))","v":237.24},97739,"SINAPI"]
[null,"10.3.2.4","Concreto Usinado (fornecimento, lançamento, adensamento e bombeado) FCK=25MPA","M3",0.2,379.03,{"$f":"'BDI 20,34%'!$C$26","v":0.2034},456.12,{"$f":"IF(ISERR(ROUND((E186*H186),2)),\"\",ROUND((E186*H186),2))","v":91.22},92722,"SINAPI"]
[null,"10.3.2.5","Aço CA-50 - 10.0MM (fornecimento, corte, colocação)","KG",31.45,7.09,{"$f":"'BDI 20,34%'!$C$26","v":0.2034},8.5299999999999994,268.27,92787,"SINAPI"]
[null,"10.3.2.6","Impermeabilização com Argamassa Polimérica Bicomponente Semiflexível, 03 Demãos Cruzadas","M2",10.25,27.52,{"$f":"'BDI 20,34%'!$C$26","v":0.2034},33.119999999999997,339.48,98555,"SINAPI"]
[null,"10.3.2.7","Brita n2 (Fornecimento e colocação)","M3",1.06,82.22,{"$f":"'BDI 20,34%'!$C$26","v":0.2034},98.94,{"$f":"IF(ISERR(ROUND((E189*H189),2)),\"\",ROUND((E189*H189),2))","v":104.88},88549,"SINAPI"]
[null,"10.3.2.8","Calha de Concreto Ø15cm","M",1.5,24.29,{"$f":"'BDI 20,34%'!$C$26","v":0.2034},29.23,43.85,"73882/1","SINAPI"]
[null,"10.3.2.9","Tubo PVC, 100mm","M",1.3,43.71,{"$f":"'BDI 20,34%'!$C$26","v":0.2034},52.6,68.38,89714,"SINAPI"]
[null,"10.3.2.10","Joelho 90°, 100mm","UN",1,17.989999999999998,{"$f":"'BDI 20,34%'!$C$26","v":0.2034},21.65,21.65,89746,"SINAPI"]
[null,"10.3.2.11","Tubo PVC, 150mm","M",2,39.42,{"$f":"'BDI 20,34%'!$C$26","v":0.2034},47.44,94.88,89849,"SINAPI"]
[null,"10.3.3","Sumidouro Pré-Moldado, Ø1,50m, h=2,00m"]
[null,"10.3.3.1","Tubo de Concreto Ø1,50m, com Junta Rígida de Argamassa (incluso escavação, carga e transporte)","M",2,636.82000000000005,{"$f":"'BDI 20,34%'!$C$26","v":0.2034},{"$f":"ROUND(((F195*G195)+F195),2)","v":766.35},{"$f":"IF(ISERR(ROUND((E195*H195),2)),\"\",ROUND((E195*H195),2))","v":1532.7},92818,"SINAPI"]
[null,"10.3.3.2","Tampa Pré-Moldada Ø1,25m","M3",0.09,2190.42,{"$f":"'BDI 20,34%'!$C$26","v":0.2034},2635.95,{"$f":"IF(ISERR(ROUND((E196*H196),2)),\"\",ROUND((E196*H196),2))","v":237.24},97739,"SINAPI"]
[null,"10.3.3.3","Brita n2 (Fornecimento e colocação)","M3",4.72,82.22,{"$f":"'BDI 20,34%'!$C$26","v":0.2034},98.94,{"$f":"IF(ISERR(ROUND((E197*H197),2)),\"\",ROUND((E197*H197),2))","v":467},88549,"SINAPI"]
[null,"10.3.3.4","Tubo PVC, 100mm","M",1,43.71,{"$f":"'BDI 20,34%'!$C$26","v":0.2034},52.6,52.6,89714,"SINAPI"]
[null,"10.3.3.5","Joelho 90°, 100mm","UN",1,17.989999999999998,{"$f":"'BDI 20,34%'!$C$26","v":0.2034},21.65,21.65,89746,"SINAPI"]
[null,"10.3.3.6","Tubo PVC, 150mm","M",2,39.42,{"$f":"'BDI 20,34%'!$C$26","v":0.2034},47.44,94.88,89849,"SINAPI"]
[null,11,"REDE PLUVIAL",null,null,null,null,"∑ ",{"$f":"SUBTOTAL(9,I202:I206)","v":394.09}]
[null,"11.1","Curva  PVC 90° Curta"]
[null,"11.1.1","100mm","UN",4,25.7,{"$f":"'BDI 20,34%'!$C$26","v":0.2034},{"$f":"ROUND(((F203*G203)+F203),2)","v":30.93},{"$f":"IF(ISERR(ROUND((E203*H203),2)),\"\",ROUND((E203*H203),2))","v":123.72},89748,"SINAPI"]
[null,"11.2","Tubo Rígido com Ponta Lisa"]
[null,"11.2.1","100mm - 4\"","M",7.8000000000000007,26.15,{"$f":"'BDI 20,34%'!$C$26","v":0.2034},{"$f":"ROUND(((F205*G205)+F205),2)","v":31.47},{"$f":"IF(ISERR(ROUND((E205*H205),2)),\"\",ROUND((E205*H205),2))","v":245.47},89578,"SINAPI"]
[null,"11.2.2","Fixação Vertical com Abraçadeira Metálica","M",6,3.45,{"$f":"'BDI 20,34%'!$C$26","v":0.2034},{"$f":"ROUND(((F206*G206)+F206),2)","v":4.1500000000000004},{"$f":"IF(ISERR(ROUND((E206*H206),2)),\"\",ROUND((E206*H206),2))","v":24.9},91175,"SINAPI"]
[null,12,"REVESTIMENTO PISO",null,null,null,null,"∑ ",{"$f":"SUBTOTAL(9,I208:I211)","v":4546.5499999999993}]
[null,"12.1","Soleira de Granito Jateada, e=2cm (fornecimento e assentamento)","M",2.7,76.06,{"$f":"'BDI 20,34%'!$C$26","v":0.2034},{"$f":"ROUND(((F208*G208)+F208),2)","v":91.53},{"$f":"IF(ISERR(ROUND((E208*H208),2)),\"\",ROUND((E208*H208),2))","v":247.13},98689,"SINAPI"]
[null,"12.2","Cerâmico"]
[null,"12.2.1","Piso Cerâmico ANTIDERRAPANTE, 60x60, PEI 5, assentado com Argamassa","M2",50.08,67.27,{"$f":"'BDI 20,34%'!$C$26","v":0.2034},{"$f":"ROUND(((F210*G210)+F210),2)","v":80.95},{"$f":"IF(ISERR(ROUND((E210*H210),2)),\"\",ROUND((E210*H210),2))","v":4053.98},87257,"SINAPI"]
[null,"12.2.2","Rodapé Cerâmico de 7cm, assentado com Argamassa","M",16.55,12.32,{"$f":"'BDI 20,34%'!$C$26","v":0.2034},{"$f":"ROUND(((F211*G211)+F211),2)","v":14.83},245.44,88650,"SINAPI"]
[null,13,"REVESTIMENTO PAREDE",null,null,null,null,"∑ ",{"$f":"SUBTOTAL(9,I213:I216)","v":12565.61}]
[null,"13.1","Chapisco","M2",221.42999999999989,3.29,{"$f":"'BDI 20,34%'!$C$26","v":0.2034},{"$f":"ROUND(((F213*G213)+F213),2)","v":3.96},{"$f":"IF(ISERR(ROUND((E213*H213),2)),\"\",ROUND((E213*H213),2))","v":876.86},87879,"SINAPI"]
[null,"13.2","Emboço/Reboco (Massa Única)","M2",221.42999999999989,26.76,{"$f":"'BDI 20,34%'!$C$26","v":0.2034},{"$f":"ROUND(((F214*G214)+F214),2)","v":32.200000000000003},7130.05,89173,"SINAPI"]
[null,"13.3","Azulejos 30x60cm (fornecimento e assentamento)","M2",49.440000000000012,65.27,{"$f":"'BDI 20,34%'!$C$26","v":0.2034},{"$f":"ROUND(((F215*G215)+F215),2)","v":78.55},3883.51,"CED111","COMPOSIÇÃO"]
[null,"13.4","Peitoril de Granito Polido, e=2cm, com Pingadeira (fornecimento e assentamento)","M",5.6,100.19,{"$f":"'BDI 20,34%'!$C$26","v":0.2034},{"$f":"ROUND(((F216*G216)+F216),2)","v":120.57},675.19,84088,"SINAPI"]
[null,14,"PINTURA",null,null,null,null,"∑ ",{"$f":"SUBTOTAL(9,I218:I219)","v":3150.86}]
[null,"14.1","Fundo Preparador para Pintura Acrílica, uma demão","M2",171.99,2.5,{"$f":"'BDI 20,34%'!$C$26","v":0.2034},{"$f":"ROUND(((F218*G218)+F218),2)","v":3.01},{"$f":"IF(ISERR(ROUND((E218*H218),2)),\"\",ROUND((E218*H218),2))","v":517.69000000000005},88415,"SINAPI"]
[null,"14.2","Pintura Acrílica, duas demãos","M2",171.99,12.72,{"$f":"'BDI 20,34%'!$C$26","v":0.2034},{"$f":"ROUND(((F219*G219)+F219),2)","v":15.31},{"$f":"IF(ISERR(ROUND((E219*H219),2)),\"\",ROUND((E219*H219),2))","v":2633.17},88489,"SINAPI"]
[null,15,"FORRO",null,null,null,null,"∑ ",{"$f":"SUBTOTAL(9,I221:I222)","v":3930.38}]
[null,"15.1","Forro de PVC em Réguas, Frisado (inclusive estrutura de fixação, fornecimento e colocação)","M2",64.22,41.04,{"$f":"'BDI 20,34%'!$C$26","v":0.2034},{"$f":"ROUND(((F221*G221)+F221),2)","v":49.39},{"$f":"IF(ISERR(ROUND((E221*H221),2)),\"\",ROUND((E221*H221),2))","v":3171.83},96111,"SINAPI"]
[null,"15.2","Rodaforro de PVC (fornecimento e instalação)","M",80.44,7.84,{"$f":"'BDI 20,34%'!$C$26","v":0.2034},{"$f":"ROUND(((F222*G222)+F222),2)","v":9.43},758.55,96121,"SINAPI"]
[null,16,"DIVISÓRIAS",null,null,null,null,"∑ ",{"$f":"SUBTOTAL(9,I224)","v":8517.34}]
[null,"16.1","Divisória em Granito e=3cm (fornecimento e instalação)","M2",11.64,608.04999999999995,{"$f":"'BDI 20,34%'!$C$26","v":0.2034},{"$f":"ROUND(((F224*G224)+F224),2)","v":731.73},{"$f":"IF(ISERR(ROUND((E224*H224),2)),\"\",ROUND((E224*H224),2))","v":8517.34},79627,"SINAPI"]
[null,17,"ESQUADRIAS",null,null,null,null,"∑ ",{"$f":"SUBTOTAL(9,I226:I231)","v":12893.06}]
[null,"17.1","Janelas "]
[null,"17.1.1","J1 - Basculante - 3 Folhas Basculantes - Alumínio e Vidro - 0,80x 0,60 (07 Unidades)","M2",3.36,380.18000000000006,{"$f":"'BDI 20,34%'!$C$26","v":0.2034},{"$f":"ROUND(((F227*G227)+F227),2)","v":457.51},{"$f":"IF(ISERR(ROUND((E227*H227),2)),\"\",ROUND((E227*H227),2))","v":1537.23},"CES001","COMPOSIÇÃO"]
[null,"17.2","Portas"]
[null,"17.2.1","P2 - Porta - Abrir - Alumínio Veneziana - 0,80x1,95 (04 Unidades)","M2",6.24,792.31,{"$f":"'BDI 20,34%'!$C$26","v":0.2034},{"$f":"ROUND(((F229*G229)+F229),2)","v":953.47},{"$f":"IF(ISERR(ROUND((E229*H229),2)),\"\",ROUND((E229*H229),2))","v":5949.65},91341,"SINAPI"]
[null,"17.2.2","P1 - Porta - Abrir - Alumínio Veneziana - 0,90x2,10 (02 Unidades)","M2",3.78,792.31,{"$f":"'BDI 20,34%'!$C$26","v":0.2034},{"$f":"ROUND(((F230*G230)+F230),2)","v":953.47},3604.12,91341,"SINAPI"]
[null,"17.2.3","P3 - Porta - Abrir - Alumínio Veneziana - 0,90x2,10 (01 Unidades)","M2",1.89,792.31,{"$f":"'BDI 20,34%'!$C$26","v":0.2034},{"$f":"ROUND(((F231*G231)+F231),2)","v":953.47},1802.06,91341,"SINAPI"]
[null,18,"APARELHOS SANITÁRIOS, LOUÇAS E METAIS",null,null,null,null,"∑ ",{"$f":"SUBTOTAL(9,I233:I238)","v":6721.3499999999995}]
[null,"18.1","Lavatório Louça Branca Suspenso, 29,5x39cm ou equivalente, Padrão Popular, incluso Sifão Copo em PVC, Válvula e Engate Flexível 30cm em Plástico e com Torneira Cromada de Mesa, Padrão Popular (fornecimento e instalação)","UN",1,184.57,{"$f":"'BDI 20,34%'!$C$26","v":0.2034},{"$f":"ROUND(((F233*G233)+F233),2)","v":222.11},{"$f":"IF(ISERR(ROUND((E233*H233),2)),\"\",ROUND((E233*H233),2))","v":222.11},86942,"SINAPI"]
[null,"18.2","Lavatório Louça Branca com Coluna, 44x35,5cm, Padrão Popular, incluso Sifão Flexível em PVC, Válvula e Engate Flexível 30cm em Plástico e com Torneira Cromada Padrão Popular (fornecimento e instalação)","UN",6,273.11,{"$f":"'BDI 20,34%'!$C$26","v":0.2034},328.66,1971.96,86939,"SINAPI"]
[null,"18.3","Vaso Sanitário para Válvula de Descarga de 1.1/2\" incluso Conjunto de Ligação para Bacia Sanitária Ajustável (fornecimento e instalação)","UN",1,171.16,{"$f":"'BDI 20,34%'!$C$26","v":0.2034},205.97,205.97,95470,"SINAPI"]
[null,"18.4","Vaso Sanitário com Caixa Acoplada incluindo Engate Flexivel (fornecimento e instalação)","UN",4,357.64,{"$f":"'BDI 20,34%'!$C$26","v":0.2034},430.38,1721.52,86931,"SINAPI"]
[null,"18.5","Ducha Higiênica Metálica de Parede Articulável (fornecimento e instalação)","UN",1,214.98000000000002,{"$f":"'BDI 20,34%'!$C$26","v":0.2034},258.70999999999998,258.70999999999998,"CAC001","COMPOSIÇÃO"]
[null,"18.6","Mictório Sinfonado com Registro de Pressão, Canopla Cromada e Conjunto para Fixação (fornecimento e instalação)","UN",4,486.35,{"$f":"'BDI 20,34%'!$C$26","v":0.2034},585.27,2341.08,"74234/1","SINAPI"]
[null,19,"ACESSÓRIOS SANITÁRIOS",null,null,null,null,"∑ ",{"$f":"SUBTOTAL(9,I240:I254)","v":5168.07}]
[null,"19.1","Alarme de Emergencia Audiovisual  (fornecimento e instalação)","UN",1,459.91,{"$f":"'BDI 20,34%'!$C$26","v":0.2034},{"$f":"ROUND(((F240*G240)+F240),2)","v":553.46},553.46,"CAC002","COMPOSIÇÃO"]
[null,"19.2","Barra de Apoio"]
[null,"19.2.1","Barra de Apoio Angular, 60cm, em Aço Inox Polido (fornecimento e instalação)","UN",1,199.01000000000002,{"$f":"'BDI 20,34%'!$C$26","v":0.2034},{"$f":"ROUND(((F242*G242)+F242),2)","v":239.49},239.49,"CAC003","COMPOSIÇÃO"]
[null,"19.2.2","Barra de Apoio Reta, em Alumínio, 40cm (fornecimento e instalação)","UN",2,105.47,{"$f":"'BDI 20,34%'!$C$26","v":0.2034},126.92,253.84,"CAC004","COMPOSIÇÃO"]
[null,"19.2.3","Barra de Apoio Reta, em Alumínio, 70cm (fornecimento e instalação)","UN",5,119.24,{"$f":"'BDI 20,34%'!$C$26","v":0.2034},143.49,717.45,"CAC005","COMPOSIÇÃO"]
[null,"19.2.4","Barra de Apoio Reta, em Alumínio, 80cm (fornecimento e instalação)","UN",2,128.03,{"$f":"'BDI 20,34%'!$C$26","v":0.2034},154.07,308.14,"CAC006","COMPOSIÇÃO"]
[null,"19.3","Espelho Cristal 80x50cm e=4mm","M2",3.2800000000000002,413.78,{"$f":"'BDI 20,34%'!$C$26","v":0.2034},497.94,1633.24,"74125/1","SINAPI"]
[null,"19.4","Saboneteira Plástica tipo Dispenser para Sabonete Líquido (fornecimento e instalação)","UN",3,67.34,{"$f":"'BDI 20,34%'!$C$26","v":0.2034},81.040000000000006,243.12,95547,"SINAPI"]
[null,"19.5","Toalheiro Plástico tipo Dispenser para Papel Toalha Interfolhado (fornecimento e instalação)","UN",3,65.570000000000007,{"$f":"'BDI 20,34%'!$C$26","v":0.2034},78.91,236.73,"CAC007","COMPOSIÇÃO"]
[null,"19.6","Papeleira Plástica tipo Dispenser para Papel Higiênico para Rolo de 300m (fornecimento e instalação)","UN",5,65.570000000000007,{"$f":"'BDI 20,34%'!$C$26","v":0.2034},78.91,394.55,"CAC008","COMPOSIÇÃO"]
[null,"19.7","Gancho para Pendurar Utensílios  (fornecimento e instalação)","UN",1,26.14,{"$f":"'BDI 20,34%'!$C$26","v":0.2034},31.46,31.46,"CAC009","COMPOSIÇÃO"]
[null,"19.8","Porta Objetos em MDF (fornecimento e instalação)","UN ",1,32.980000000000004,{"$f":"'BDI 20,34%'!$C$26","v":0.2034},39.69,39.69,"CAC010","COMPOSIÇÃO"]
[null,"19.9","Lixeira Basculante de PVC 12 Litros","UN",7,34.659999999999997,{"$f":"'BDI 20,34%'!$C$26","v":0.2034},41.71,291.97000000000003,"CAC011","COMPOSIÇÃO"]
[null,"19.10","Placa Tátil Braille para Sinalização de Ambientes (fornecimento e instalação)","UN",3,48.040000000000006,{"$f":"'BDI 20,34%'!$C$26","v":0.2034},57.81,173.43,"CAC012","COMPOSIÇÃO"]
[null,"19.11","Placa de Proteção de Impacto nas Portas, 40x90cm (fornecimento e instalação)","M2",0.72000000000000008,59.440000000000005,{"$f":"'BDI 20,34%'!$C$26","v":0.2034},71.53,51.5,"CAC013","COMPOSIÇÃO"]
[null,null,"BANHEIROS",null,null,null,null,"TOTAL:",{"$f":"SUBTOTAL(9,I4:I254)","v":144373.44999999992}]
[]
[null,20,"PISO",null,null,null,null,"∑ ",{"$f":"SUBTOTAL(9,I258:I262)","v":2617.3900000000003}]
[null,"20.1","Regularização e Apiloamento Manual","M2",31,8.3000000000000007,{"$f":"'BDI 20,34%'!$C$26","v":0.2034},{"$f":"ROUND(((F258*G258)+F258),2)","v":9.99},{"$f":"IF(ISERR(ROUND((E258*H258),2)),\"\",ROUND((E258*H258),2))","v":309.69},"CED003","COMPOSIÇÃO"]
[null,"20.2","Forma de Madeira Serrada para Concreto, (material e mão-de-obra para fabricação, montagem e desforma)","M2",4.4799999999999995,66.55,{"$f":"'BDI 20,34%'!$C$26","v":0.2034},{"$f":"ROUND(((F259*G259)+F259),2)","v":80.09},{"$f":"IF(ISERR(ROUND((E259*H259),2)),\"\",ROUND((E259*H259),2))","v":358.8},96536,"SINAPI"]
[null,"20.3","Lastro de Brita Graduada para Piso de Concreto, e=10cm","M3",3.1,82.22,{"$f":"'BDI 20,34%'!$C$26","v":0.2034},{"$f":"ROUND(((F260*G260)+F260),2)","v":98.94},306.70999999999998,88549,"SINAPI"]
[null,"20.4","Tela Soldada Q-92 - Aço CA-60 4.2mm - Malha 15x15cm (fornecimento, corte e instalação)","M2",31,10.49,{"$f":"'BDI 20,34%'!$C$26","v":0.2034},{"$f":"ROUND(((F261*G261)+F261),2)","v":12.62},391.22,85662,"SINAPI"]
[null,"20.5","Piso em Concreto 25 MPa , e=10cm","M3",3.1,335.32999999999993,{"$f":"'BDI 20,34%'!$C$26","v":0.2034},{"$f":"ROUND(((F262*G262)+F262),2)","v":403.54},1250.97,"CED100","COMPOSIÇÃO"]
[null,21,"SINALIZAÇÃO VAGAS ACESSÍVEIS",null,null,null,null,"∑ ",{"$f":"SUBTOTAL(9,I264:I265)","v":1397.94}]
[null,"21.1","Pintura Acrilica para Sinalização Horizontal em Piso Cimentado","M2",7.44,21.55,{"$f":"'BDI 20,34%'!$C$26","v":0.2034},{"$f":"ROUND(((F264*G264)+F264),2)","v":25.93},{"$f":"IF(ISERR(ROUND((E264*H264),2)),\"\",ROUND((E264*H264),2))","v":192.92},84665,"SINAPI"]
[null,"21.2","Placa da Vaga Acessível (fornecimento e instalação)","UN ",2,500.66999999999996,{"$f":"'BDI 20,34%'!$C$26","v":0.2034},{"$f":"ROUND(((F265*G265)+F265),2)","v":602.51},{"$f":"ROUND((E265*H265),2)","v":1205.02},"COM003","COMPOSIÇÃO"]
[null,null,"VAGAS",null,null,null,null,"TOTAL:",{"$f":"SUBTOTAL(9,I257:I265)","v":4015.3300000000004}]
[]
[null,22,"ALAMBRADO",null,null,null,null,"∑ ",{"$f":"SUBTOTAL(9,I269:I271)","v":30892.05}]
[null,"22.1","Tela Galvanizada Revestida em Pintura Eletrostática em Poliéster (Malha 5x20cm fio 5mm)","M2",977.13,25.551180378129793,{"$f":"'BDI 13,24%'!$C$26","v":0.13239999999999999},{"$f":"ROUND(((F269*G269)+F269),2)","v":28.93},{"$f":"IF(ISERR(ROUND((E269*H269),2)),\"\",ROUND((E269*H269),2))","v":28268.37},"MED150","Mercado"]
[null,"22.2","Mourão de Concreto, Altura=2,15m (fornecimento e instalação)","UN",36,47.839999999999996,{"$f":"'BDI 20,34%'!$C$26","v":0.2034},{"$f":"ROUND(((F270*G270)+F270),2)","v":57.57},{"$f":"IF(ISERR(ROUND((E270*H270),2)),\"\",ROUND((E270*H270),2))","v":2072.52},"CED002","COMPOSIÇÃO"]
[null,"22.3","Pintura Acrílica dos Mourões de Concreto, duas demãos","M2",36,12.72,{"$f":"'BDI 20,34%'!$C$26","v":0.2034},{"$f":"ROUND(((F271*G271)+F271),2)","v":15.31},551.16,88489,"SINAPI"]
[null,23,"ILUMINAÇÃO PISTA E CAMPO",null,null,null,null,"∑ ",{"$f":"SUBTOTAL(9,I273:I282)","v":87190.88}]
[null,"23.1","Eletroduto PEAD - 1 1/2\" (fornecimento, escavação, assentamento e reaterro)","M",509,25.41,{"$f":"'BDI 20,34%'!$C$26","v":0.2034},{"$f":"ROUND(((F273*G273)+F273),2)","v":30.58},{"$f":"IF(ISERR(ROUND((E273*H273),2)),\"\",ROUND((E273*H273),2))","v":15565.22},"CEL006","COMPOSIÇÃO"]
[null,"23.2","Cabo de Cobre Isolado 2,5mm2 - 750v (nos postes","M",336,3.02,{"$f":"'BDI 20,34%'!$C$26","v":0.2034},3.63,{"$f":"IF(ISERR(ROUND((E274*H274),2)),\"\",ROUND((E274*H274),2))","v":1219.68},91926,"SINAPI"]
[null,"23.3","Cabo de Cobre Isolado 4,0mm2 - 1KV (entre os postes","M",3054,5.19,{"$f":"'BDI 20,34%'!$C$26","v":0.2034},6.25,{"$f":"IF(ISERR(ROUND((E275*H275),2)),\"\",ROUND((E275*H275),2))","v":19087.5},91929,"SINAPI"]
[null,"23.4","Cabo de Cobre Isolado 4,0mm2 - 1KV (aterramento)","M",24,5.19,{"$f":"'BDI 20,34%'!$C$26","v":0.2034},6.25,{"$f":"IF(ISERR(ROUND((E276*H276),2)),\"\",ROUND((E276*H276),2))","v":150},91929,"SINAPI"]
[null,"23.5","Caixa de Passagem 30x30x40, Fundo de Brita e Tampa (fornecimento e instalação)","UN",24,162.96,{"$f":"'BDI 20,34%'!$C$26","v":0.2034},196.11,{"$f":"IF(ISERR(ROUND((E277*H277),2)),\"\",ROUND((E277*H277),2))","v":4706.6400000000003},83446,"SINAPI"]
[null,"23.6","Haste de Aterramento em Aço de 2,4m e Ø5/8\"","UN",24,51.09,{"$f":"'BDI 20,34%'!$C$26","v":0.2034},61.48,1475.52,96985,"SINAPI"]
[null,"23.7","Poste de Conico Continuo em Aço Galvanizado, Flageado H=7,0M, diametro inferior 17cm","UN",24,981.95999999999992,{"$f":"'BDI 20,34%'!$C$26","v":0.2034},1181.69,28360.560000000001,"CEL200","COMPOSIÇÃO"]
[null,"23.8","Luminária De Led 150W Para Iluminação Publica, Para Instalação Em Poste Metâlico, A Prova D'Agua, Modelo Tipo Pétala","UN",24,371.96000000000004,{"$f":"'BDI 20,34%'!$C$26","v":0.2034},447.62,10742.88,"CEL201","COMPOSIÇÃO"]
[null,"23.9","Rele Fotoeletrico P/ Comando De Iluminacao Externa 220V/1000W - Fornecimento E Instalacao","UN",24,33.57,{"$f":"'BDI 20,34%'!$C$26","v":0.2034},40.4,969.6,83399,"SINAPI"]
[null,"23.10","Chumbador De Aço Para Fixação De Poste De Aco Reto Ou Curvo 7 A 9M Com Flange - Fornecimento E Instalacao","UN",24,170.12,{"$f":"'BDI 20,34%'!$C$26","v":0.2034},204.72,4913.28,"CEL202","COMPOSIÇÃO"]
[null,null,"CAMPO",null,null,null,null,"TOTAL:",{"$f":"SUBTOTAL(9,I268:I282)","v":118082.93000000001}]
[]
[]
[null,null,null,null,null,null,null,"TOTAL:",{"$f":"SUBTOTAL(9,I4:I285)","v":266471.7099999999}]
[]
[]
[null,"Rio do Sul,","2020-02-11"]

{"sheet":"BDI 20,34%","index":1,"n_rows":512,"n_cols":6,"rows_kept":512,"cut":false,"hidden":false,"merged":[[1,1,1,4],[23,1,23,4],[6,1,8,1],[6,3,8,3],[3,1,3,4]]}
[]
[null,"O valor do BDI é obtido pela fórmula e taxas abaixo"]
[]
[null,"FÓRMULA BDI - Construção de Edifícios"]
[]
[]
[null,"BDI ="," (1+AC+S+R+G)(1+DF)(1+L)  ",-1]
[null,null,"_______________________________________            "]
[null,null,"(1-I)"]
[]
[]
[null,"ONDE:"]
[null,"AC =  Taxa de Administração Central",null,null,0.03]
[null,"S = Taxa de Seguros",null,null,4.0000000000000001E-3]
[null,"G = Taxa de Garantias",null,null,4.0000000000000001E-3]
[null,"R = Taxa de Riscos",null,null,9.7000000000000003E-3]
[null,"DF = Taxa de Despesas Financeiras",null,null,5.8999999999999999E-3]
[null,"L = Taxa de Lucro / Remuneração",null,null,7.7399999999999997E-2]
[null,"I = Taxa de Incidência de Impostos",null,null,{"$f":"D22","v":5.6499999999999995E-2}]
[null,null,"I1: PIS e COFINS",3.6499999999999998E-2]
[null,null,"I2: ISSQN (conforme legislação municipal)",0.02]
[null,null,"∑",{"$f":"SUM(D20:D21)","v":5.6499999999999995E-2}]
[]
[null,"TEMOS ENTÃO ENTRANDO COM OS DADOS NA FÓRMULA"]
[]
[null,null,{"$f":"TRUNC(((((1+E13+E14+E15+E16)*(1+E17)*(1+E18))/(1-E19))-1),4)","v":0.2034}]
[]
[]
[]
[]
[]
[]
[]
[]
[]
[]
[]
[]
[]
[]
[]
[]
[]
[]
[]
[]
[]
[]
[]
[]
[]
[]
[]
[]
[]
[]
[]
[]
[]
[]
[]
[]
[]
[]
[]
[]
[]
[]
[]
[]
[]
[]
[]
[]
[]
[]
[]
[]
[]
[]
[]
[]
[]
[]
[]
[]
[]
[]
[]
[]
[]
[]
[]
[]
[]
[]
[]
[]
[]
[]
[]
[]
[]
[]
[]
[]
[]
[]
[]
[]
[]
[]
[]
[]
[]
[]
[]
[]
[]
[]
[]
[]
[]
[]
[]
[]
[]
[]
[]
[]
[]
[]
[]
[]
[]
[]
[]
[]
[]
[]
[]
[]
[]
[]
[]
[]
[]
[]
[]
[]
[]
[]
[]
[]
[]
[]
[]
[]
[]
[]
[]
[]
[]
[]
[]
[]
[]
[]
[]
[]
[]
[]
[]
[]
[]
[]
[]
[]
[]
[]
[]
[]
[]
[]
[]
[]
[]
[]
[]
[]
[]
[]
[]
[]
[]
[]
[]
[]
[]
[]
[]
[]
[]
[]
[]
[]
[]
[]
[]
[]
[]
[]
[]
[]
[]
[]
[]
[]
[]
[]
[]
[]
[]
[]
[]
[]
[]
[]
[]
[]
[]
[]
[]
[]
[]
[]
[]
[]
[]
[]
[]
[]
[]
[]
[]
[]
[]
[]
[]
[]
[]
[]
[]
[]
[]
[]
[]
[]
[]
[]
[]
[]
[]
[]
[]
[]
[]
[]
[]
[]
[]
[]
[]
[]
[]
[]
[]
[]
[]
[]
[]
[]
[]
[]
[]
[]
[]
[]
[]
[]
[]
[]
[]
[]
[]
[]
[]
[]
[]
[]
[]
[]
[]
[]
[]
[]
[]
[]
[]
[]
[]
[]
[]
[]
[]
[]
[]
[]
[]
[]
[]
[]
[]
[]
[]
[]
[]
[]
[]
[]
[]
[]
[]
[]
[]
[]
[]
[]
[]
[]
[]
[]
[]
[]
[]
[]
[]
[]
[]
[]
[]
[]
[]
[]
[]
[]
[]
[]
[]
[]
[]
[]
[]
[]
[]
[]
[]
[]
[]
[]
[]
[]
[]
[]
[]
[]
[]
[]
[]
[]
[]
[]
[]
[]
[]
[]
[]
[]
[]
[]
[]
[]
[]
[]
[]
[]
[]
[]
[]
[]
[]
[]
[]
[]
[]
[]
[]
[]
[]
[]
[]
[]
[]
[]
[]
[]
[]
[]
[]
[]
[]
[]
[]
[]
[]
[]
[]
[]
[]
[]
[]
[]
[]
[]
[]
[]
[]
[]
[]
[]
[]
[]
[]
[]
[]
[]
[]
[]
[]
[]
[]
[]
[]
[]
[]
[]
[]
[]
[]
[]
[]
[]
[]
[]
[]
[]
[]
[]
[]
[]
[]
[]
[]
[]
[]
[]
[]
[]
[]
[]
[]
[]
[]
[]
[]
[]
[]
[]
[]
[]
[]
[]
[null,null,null,null,null,"COM003"]
[]
[]
[]
[]
[]
[]
[]
[]
[]
[]
[]
[null,null,null,null,null,"COM004"]
[]
[32.25,"m2"]
[3.23,"m3"]
[70.95,"kg"]
[3.23,"m3"]
[2,"un"]
[7.4399999999999995,"m2",null,null,"COM003"]

{"sheet":"BDI 13,24%","index":2,"n_rows":512,"n_cols":6,"rows_kept":512,"cut":false,"hidden":false,"merged":[[23,1,23,4],[1,1,1,4],[6,1,8,1],[6,3,8,3],[3,0,3,5]]}
[]
[null,"O valor do BDI é obtido pela fórmula e taxas abaixo"]
[]
["FÓRMULA BDI - Fornecimento de Materiais e Equipamentos"]
[]
[]
[null,"BDI ="," (1+AC+S+R+G)(1+DF)(1+L)  ",-1]
[null,null,"_______________________________________            "]
[null,null,"(1-I)"]
[]
[]
[null,"ONDE:"]
[null,"AC =  Taxa de Administração Central",null,null,1.4999999999999999E-2]
[null,"S = Taxa de Seguros",null,null,1.5E-3]
[null,"G = Taxa de Garantias",null,null,1.5E-3]
[null,"R = Taxa de Riscos",null,null,5.5999999999999999E-3]
[null,"DF = Taxa de Despesas Financeiras",null,null,8.5000000000000006E-3]
[null,"L = Taxa de Lucro / Remuneração",null,null,3.5000000000000003E-2]
[null,"I = Taxa de Incidência de Impostos",null,null,{"$f":"D22","v":5.6499999999999995E-2}]
[null,null,"I1: PIS e COFINS",3.6499999999999998E-2]
[null,null,"I2: ISSQN (conforme legislação municipal)",0.02]
[null,null,"∑",{"$f":"SUM(D20:D21)","v":5.6499999999999995E-2}]
[]
[null,"TEMOS ENTÃO ENTRANDO COM OS DADOS NA FÓRMULA"]
[]
[null,null,{"$f":"TRUNC(((((1+E13+E14+E15+E16)*(1+E17)*(1+E18))/(1-E19))-1),4)","v":0.13239999999999999}]
[]
[]
[]
[]
[]
[]
[]
[]
[]
[]
[]
[]
[]
[]
[]
[]
[]
[]
[]
[]
[]
[]
[]
[]
[]
[]
[]
[]
[]
[]
[]
[]
[]
[]
[]
[]
[]
[]
[]
[]
[]
[]
[]
[]
[]
[]
[]
[]
[]
[]
[]
[]
[]
[]
[]
[]
[]
[]
[]
[]
[]
[]
[]
[]
[]
[]
[]
[]
[]
[]
[]
[]
[]
[]
[]
[]
[]
[]
[]
[]
[]
[]
[]
[]
[]
[]
[]
[]
[]
[]
[]
[]
[]
[]
[]
[]
[]
[]
[]
[]
[]
[]
[]
[]
[]
[]
[]
[]
[]
[]
[]
[]
[]
[]
[]
[]
[]
[]
[]
[]
[]
[]
[]
[]
[]
[]
[]
[]
[]
[]
[]
[]
[]
[]
[]
[]
[]
[]
[]
[]
[]
[]
[]
[]
[]
[]
[]
[]
[]
[]
[]
[]
[]
[]
[]
[]
[]
[]
[]
[]
[]
[]
[]
[]
[]
[]
[]
[]
[]
[]
[]
[]
[]
[]
[]
[]
[]
[]
[]
[]
[]
[]
[]
[]
[]
[]
[]
[]
[]
[]
[]
[]
[]
[]
[]
[]
[]
[]
[]
[]
[]
[]
[]
[]
[]
[]
[]
[]
[]
[]
[]
[]
[]
[]
[]
[]
[]
[]
[]
[]
[]
[]
[]
[]
[]
[]
[]
[]
[]
[]
[]
[]
[]
[]
[]
[]
[]
[]
[]
[]
[]
[]
[]
[]
[]
[]
[]
[]
[]
[]
[]
[]
[]
[]
[]
[]
[]
[]
[]
[]
[]
[]
[]
[]
[]
[]
[]
[]
[]
[]
[]
[]
[]
[]
[]
[]
[]
[]
[]
[]
[]
[]
[]
[]
[]
[]
[]
[]
[]
[]
[]
[]
[]
[]
[]
[]
[]
[]
[]
[]
[]
[]
[]
[]
[]
[]
[]
[]
[]
[]
[]
[]
[]
[]
[]
[]
[]
[]
[]
[]
[]
[]
[]
[]
[]
[]
[]
[]
[]
[]
[]
[]
[]
[]
[]
[]
[]
[]
[]
[]
[]
[]
[]
[]
[]
[]
[]
[]
[]
[]
[]
[]
[]
[]
[]
[]
[]
[]
[]
[]
[]
[]
[]
[]
[]
[]
[]
[]
[]
[]
[]
[]
[]
[]
[]
[]
[]
[]
[]
[]
[]
[]
[]
[]
[]
[]
[]
[]
[]
[]
[]
[]
[]
[]
[]
[]
[]
[]
[]
[]
[]
[]
[]
[]
[]
[]
[]
[]
[]
[]
[]
[]
[]
[]
[]
[]
[]
[]
[]
[]
[]
[]
[]
[]
[]
[]
[]
[]
[]
[]
[]
[]
[]
[]
[]
[]
[]
[]
[]
[]
[]
[]
[]
[]
[]
[]
[]
[]
[]
[]
[]
[]
[]
[]
[]
[]
[]
[]
[]
[]
[]
[]
[]
[]
[]
[]
[null,null,null,null,null,"COM003"]
[]
[]
[]
[]
[]
[]
[]
[]
[]
[]
[]
[null,null,null,null,null,"COM004"]
[]
[32.25,"m2"]
[3.23,"m3"]
[70.95,"kg"]
[3.23,"m3"]
[2,"un"]
[7.4399999999999995,"m2",null,null,"COM003"]